BEGIN:VCALENDAR
VERSION:2.0
PRODID:-//jEvents 2.0 for Joomla//EN
CALSCALE:GREGORIAN
METHOD:PUBLISH
BEGIN:VEVENT
UID:952e962909a3bcb3b88f99c32b866108
CATEGORIES:7. Bezirk
CREATED:20190521T091909
SUMMARY:Reiki-Workshop für Mamas
LOCATION:Feelgoodstudio\, 1070 Burggasse 31 (Innenhof)
DESCRIPTION:Reiki-Workshops für Mamas\n \nJede Mutter kennt das: die Liebe zu den Kinde
 rn ist groß und unendlich, doch die alltäglichen Herausforderungen sind zu 
 meistern. Mamas kämpfen mit Schlafmangel, ihnen fehlt der Raum für sich sel
 bst, sie sorgen sich rund um die Uhr um ihre Kleinen und deren Wehwehchen o
 der verspüren selbst eine innere Unruhe. Die Kinder kämpfen mit Bauchweh, m
 it Zahnen, spüren Angst in der Nacht oder einen zu großen Trennungsschmerz.
 \n \nLerne mit Reiki, wie du dir und deinem Kleinen in der hektischen Zeit 
 selbst helfen kannst.\n \nMit Reiki* gewinnst du ein emotionales Gleichgewi
 cht, stärkst deine innere Mitte und erlangst mehr Kraft, deine Herausforder
 ungen zu meistern. Ich zeige dir, wie du dich selbst und dein Kind optimal 
 unterstützen kannst. \n \n \nDie Workshops sind abgestimmt auf Mamas – du k
 annst dein Baby mitnehmen und jederzeit stillen, wickeln oder füttern.\n \n
 Was ist Reiki? Eine alte japanische Entspannungstechnik, die durch sanftes 
 Auflegen der Hände deine innere Balance herstellt und deine Selbstheilungsk
 räfte aktiviert. \n \nInhalt: Geschichte und die Weisheit über Reiki – Wie 
 Reiki wirkt – Was Reiki kann und nicht kann – Behandlungsabfolge u. v. m.\n
 Termin Juni: 6., 7., 27. und 28. Juni\nOrt: Feelgoodstudio – 1070 Wien, Bur
 ggasse 31 (Innenhof) \nKosten: 320,– Euro für 4 Einheiten, inkl. Unterlagen
 \nAnmeldung: telefonisch unter 0680 / 14 61 261 oder per E-Mail anmeine@wen
 de-punkte.at (begrenzte Teilnehmerzahl)\nTerminänderungen vorbehalten. Kein
 e Vorkenntnisse notwendig.\n \nWeitere Infos und Termine für Juni/September
 /Oktober/November findest du unter www.wende-punkte.at\n \n \nIch freue mic
 h auf dein Kommen!\nUrsula Renate Jobst, Energetikerin in Wien             
                                                                            
                  +43 0680 14 61 261 - www.wende-punkte.at\n \n \n* Reiki ka
 nn keinen Arztbesuch oder die Einnahme notwendiger Medikamente ersetzen.\n
X-ALT-DESC;FMTTYPE=text/html:<p><strong>Reiki-Workshops für Mamas</strong></p><p> </p><p>Jede Mutter ken
 nt das: die Liebe zu den Kindern ist groß und unendlich, doch die alltäglic
 hen Herausforderungen sind zu meistern. Mamas kämpfen mit Schlafmangel, ihn
 en fehlt der Raum für sich selbst, sie sorgen sich rund um die Uhr um ihre 
 Kleinen und deren Wehwehchen oder verspüren selbst eine innere Unruhe. Die 
 Kinder kämpfen mit Bauchweh, mit Zahnen, spüren Angst in der Nacht oder ein
 en zu großen Trennungsschmerz.</p><p> </p><p><strong>Lerne mit Reiki, wie d
 u dir und deinem Kleinen in der hektischen Zeit selbst helfen kannst.</stro
 ng></p><p> </p><p>Mit Reiki* gewinnst du ein emotionales Gleichgewicht, stä
 rkst deine innere Mitte und erlangst mehr Kraft, deine Herausforderungen zu
  meistern. Ich zeige dir, wie du dich selbst und dein Kind optimal unterstü
 tzen kannst. </p><p> </p><p> </p><p>Die Workshops sind abgestimmt auf Mamas
  – du kannst dein Baby mitnehmen und jederzeit stillen, wickeln oder fütter
 n.</p><p> </p><p><strong>Was ist Reiki? </strong>Eine alte japanische Entsp
 annungstechnik, die durch sanftes Auflegen der Hände deine innere Balance h
 erstellt und deine Selbstheilungskräfte aktiviert. </p><div class="page" ti
 tle="Page 3"><div class="layoutArea"><div class="column"><p> </p><p><strong
 >Inhalt:</strong> Geschichte und die Weisheit über Reiki – Wie Reiki wirkt 
 – Was Reiki kann und nicht kann – Behandlungsabfolge u. v. m.</p><p><strong
 >Termin Juni:</strong> 6., 7., 27. und 28. Juni</p><p><strong>Ort:</strong>
  Feelgoodstudio – 1070 Wien, Burggasse 31 (Innenhof) </p><p><strong>Kosten:
  </strong>320,– Euro für 4 Einheiten, inkl. Unterlagen</p><p><strong>Anmeld
 ung: </strong>telefonisch unter 0680 / 14 61 261 oder per E-Mail anmeine@we
 nde-punkte.at (begrenzte Teilnehmerzahl)</p><p>Terminänderungen vorbehalten
 . Keine Vorkenntnisse notwendig.</p></div></div></div><p> </p><p>Weitere In
 fos und Termine für Juni/September/Oktober/November findest du unter www.we
 nde-punkte.at</p><p> </p><p> </p><p>Ich freue mich auf dein Kommen!</p><p>U
 rsula Renate Jobst, Energetikerin in Wien                                  
                                                                        +43 
 0680 14 61 261 - www.wende-punkte.at</p><div class="page" title="Page 2"><d
 iv class="layoutArea"><div class="column"><p> </p><p> </p><p>* Reiki kann k
 einen Arztbesuch oder die Einnahme notwendiger Medikamente ersetzen.</p></d
 iv></div></div>
CONTACT:meine@wende-punkte.at
X-EXTRAINFO:[preis='000'][anmeldung='true']
DTSTAMP:20260424T174958
DTSTART:20190606T080000
DTEND:20190606T110000
SEQUENCE:0
TRANSP:OPAQUE
END:VEVENT
END:VCALENDAR