BEGIN:VCALENDAR
VERSION:2.0
PRODID:-//jEvents 2.0 for Joomla//EN
CALSCALE:GREGORIAN
METHOD:PUBLISH
BEGIN:VEVENT
UID:df6a72025b227c37320ecbb1456d5024
CATEGORIES:15. Bezirk
CREATED:20190521T115117
SUMMARY:Kinder-Hausmittel
LOCATION:Neubaugürtel 7\, 1150 Wien
DESCRIPTION:<div class="fl-module fl-module-fl-post-content fl-node-5b6803aec1c9d" data
 -node="5b6803aec1c9d"><div class="fl-module-content fl-node-content"><div c
 lass="" data-block="true" data-editor="6mj1k" data-offset-key="a3r66-0-0"><
 div class="_1mf _1mj" data-offset-key="a3r66-0-0"><strong>Mit Hausmitteln k
 ann man viele Beschwerden lindern und liebevoll und aktiv helfen. Ohne groß
 en Aufwand kann die ganze Familie bei kleinen Wehwehchen und Infekten begle
 itet werden.</strong></div></div><div class="" data-block="true" data-edito
 r="6mj1k" data-offset-key="3456l-0-0"><h4 class="_1mf _1mj" data-offset-key
 ="3456l-0-0"><span style="color: #008080;">So ist das „Aua“ schnell vergess
 en <br /></span></h4></div><div class="" data-block="true" data-editor="6mj
 1k" data-offset-key="29v6b-0-0"><div class="_1mf _1mj" data-offset-key="29v
 6b-0-0"><span data-offset-key="29v6b-0-0"> </span></div></div><div class=""
  data-block="true" data-editor="6mj1k" data-offset-key="63ugs-0-0"><div cla
 ss="_1mf _1mj" data-offset-key="63ugs-0-0"><strong>An diesem Vormittag widm
 en wir uns Themen, die besonders im Sommer dazu gehören:</strong></div></di
 v><div class="" data-block="true" data-editor="6mj1k" data-offset-key="5o29
 q-0-0"><div class="_1mf _1mj" data-offset-key="5o29q-0-0"><span data-offset
 -key="5o29q-0-0"> </span></div></div><div class="" data-block="true" data-e
 ditor="6mj1k" data-offset-key="cs3n0-0-0"><div class="_1mf _1mj" data-offse
 t-key="cs3n0-0-0"><span data-offset-key="cs3n0-0-0"> – Was tun bei Sonnenbr
 and?</span></div></div><div class="" data-block="true" data-editor="6mj1k" 
 data-offset-key="9qkh1-0-0"><div class="_1mf _1mj" data-offset-key="9qkh1-0
 -0"><span data-offset-key="9qkh1-0-0"> – Vermeidung und Linderung von Insek
 tenstichen</span></div></div><div class="" data-block="true" data-editor="6
 mj1k" data-offset-key="8egru-0-0"><div class="_1mf _1mj" data-offset-key="8
 egru-0-0"><span data-offset-key="8egru-0-0"> – Hoppalas, Stürze und Abschür
 fungen begleiten</span></div></div><div class="" data-block="true" data-edi
 tor="6mj1k" data-offset-key="7u4cg-0-0"><div class="_1mf _1mj" data-offset-
 key="7u4cg-0-0"><span data-offset-key="7u4cg-0-0"> – Erkältungssymptome lin
 dern</span></div></div><div class="" data-block="true" data-editor="6mj1k" 
 data-offset-key="e2p0c-0-0"><div class="_1mf _1mj" data-offset-key="e2p0c-0
 -0"><span data-offset-key="e2p0c-0-0"> – praktischer Einblick in viele bewä
 hrte, einfach umzusetzende Anwendungen!</span></div></div><div class="" dat
 a-block="true" data-editor="6mj1k" data-offset-key="4vih5-0-0"><div class="
 _1mf _1mj" data-offset-key="4vih5-0-0"><span data-offset-key="4vih5-0-0"> <
 /span></div></div><div class="" data-block="true" data-editor="6mj1k" data-
 offset-key="2jv5p-0-0"><div class="_1mf _1mj" data-offset-key="2jv5p-0-0"><
 span data-offset-key="2jv5p-0-0"> Um sich selbst zu helfen braucht es nicht
  viel Zubehör, ein wenig Wissen rund um Krankheit und Gesundheit, und die r
 ichtigen Zutaten sind schnell gefunden! So können Insektenstiche, Schrammen
 , Sonnenbrand &amp; Co in häuslicher Pflege begleitet werden.</span></div><
 /div><div class="" data-block="true" data-editor="6mj1k" data-offset-key="8
 1h2e-0-0"><div class="_1mf _1mj" data-offset-key="81h2e-0-0"><span data-off
 set-key="81h2e-0-0"> </span></div></div><div class="" data-block="true" dat
 a-editor="6mj1k" data-offset-key="f9dq9-0-0"><div class="_1mf _1mj" data-of
 fset-key="f9dq9-0-0"><span data-offset-key="f9dq9-0-0">Besonders wichtig is
 t die geschenkte <strong>Zuwendung</strong> bei der Anwendung von Hausmitte
 ln, daher sind <strong>alle Rezepte ruck-zuck</strong> zuzubereitet. Spart 
 Zeit und Nerven, und du kannst dich deinem kranken Kind widmen!</span></div
 ></div><div class="" data-block="true" data-editor="6mj1k" data-offset-key=
 "cuefp-0-0"><div class="_1mf _1mj" data-offset-key="cuefp-0-0"><span data-o
 ffset-key="cuefp-0-0"> </span></div></div><div class="" data-block="true" d
 ata-editor="6mj1k" data-offset-key="3kejs-0-0"><div class="_1mf _1mj" data-
 offset-key="3kejs-0-0"><span data-offset-key="3kejs-0-0">******************
 *****************************</span></div></div><div class="" data-block="t
 rue" data-editor="6mj1k" data-offset-key="3n6ue-0-0"><div class="_1mf _1mj"
  data-offset-key="3n6ue-0-0"><span data-offset-key="3n6ue-0-0">Anmeldung un
 ter: claudia@kinderhausmittel.com // beschränkte TeilnehmerInnenzahl // Kur
 sbeitrag: 65,- Euro inklusive Skript und Material // Dauer circa 3 Stunden 
 // Babys können selbstverständlich mit dabei sein! // Fragen und Anmeldung:
  claudia@kinderhausmittel.com</span></div><div class="_1mf _1mj" data-offse
 t-key="3n6ue-0-0"> </div></div><div class="" data-block="true" data-editor=
 "6mj1k" data-offset-key="40e4b-0-0"><div class="_1mf _1mj" data-offset-key=
 "40e4b-0-0"><span data-offset-key="40e4b-0-0">Es gelten die AGB’s von www.k
 inderhaumittel.com – Deine Anmeldung ist erst gültig wenn du eine Bestätigu
 ngsmail erhalten hast und die Anzahlung bei mir eingegangen ist.<br /> </sp
 an></div><div class="_1mf _1mj" data-offset-key="40e4b-0-0"> </div></div><d
 iv class="_1mf _1mj" data-offset-key="40e4b-0-0">!!! <span data-offset-key=
 "40e4b-0-0">Achtung: Wir treffen uns am Neubaugürtel 7. Eingang in das Gass
 enlokal direkt vom Gürtel. Das Kindeatelier hat auch eine weitere Adresse! 
 Verwechslungsgefahr!!!</span></div></div></div>
CONTACT:claudia@kinderhausmittel.com
X-EXTRAINFO:[preis='6500'][anmeldung='true']
DTSTAMP:20260425T011714
DTSTART:20190617T073000
DTEND:20190617T103000
SEQUENCE:0
TRANSP:OPAQUE
END:VEVENT
END:VCALENDAR