BEGIN:VCALENDAR
VERSION:2.0
PRODID:-//jEvents 2.0 for Joomla//EN
CALSCALE:GREGORIAN
METHOD:PUBLISH
BEGIN:VEVENT
UID:26f57bc210e67ceb3c363051da1bd65b
CATEGORIES:Wien Umgebung
CREATED:20190521T115347
SUMMARY:Hausmittel bei Erkältungen - für Kinder!
LOCATION:2100 Korneuburg\, Wiener Strasse 9/1
DESCRIPTION:Auf Einladung der Korneuburger Kinderärztin Dr. Ada Kovats findet am 21. Ok
 tober vormittags in ihrer Praxis in Korneuburg ein Workshop zum Thema "Kind
 erhausmittel für die Erkältungszeit" statt.\nWas erwartet dich in diesem Wo
 rkshop?\n *Wir probieren traditionelle Anwendungen wie bspw. Wickel gemeins
 am aus, denn was man einmal selber gemacht hat, vergisst man nicht mehr!\n 
 *Wir tauschen Tipps und Tricks aus, um Kinder für die Hausmittel zu gewinne
 n.\n *Wir überlegen, was aus unserem Haushalt verwendbar ist. Hausmittel we
 rden aus Dingen hergestellt – die man zu Hause hat.\n *Wir lernen Zutaten a
 us unserem Küchenschrank kennen, die spontan, jederzeit zur Verfügung stehe
 n.Alle selbst hergestellten Hausmittel kannst du mit nach Hause nehmen!\n \
 nHusten, Schnupfen, Fieber, Bauchweh,… so oft gibt es kleine „Notfälle“ im 
 Alltag mit Kindern!Mit Hausmitteln kann man viele Beschwerden im Familienal
 ltag lindern und den Kindern liebevoll helfen.-----------------------------
 ---------------------------------------------------------------------------
 ----------\n 65,- inkl. Material für die Hausmittel + Rezeptsammlung für zu
  Hause + Getränke // Dauer circa 3 Stunden // Anmeldung erforderlich // Bes
 chränkte TeilnehmerInnenzahl // claudia@kinderhausmittel.com (mailto:claudi
 a@kinderhausmittel.com) // +43650 500 9131 // www.kinderhausmittel.com/ (ht
 tp://www.kinderhausmittel.com/?fbclid=IwAR2d5a0oUX6kITNa7eV1Xdgg0JPPCCWw1Ir
 FnWVdTCWjW-JSN7pQqtzqV6k)\n------------------------------------------------
 -------------------------------------------------------------------\n
X-ALT-DESC;FMTTYPE=text/html:<p><strong>Auf Einladung der Korneuburger Kinderärztin Dr. Ada Kovats finde
 t am 21. Oktober vormittags in ihrer Praxis in Korneuburg ein Workshop zum 
 Thema "Kinderhausmittel für die Erkältungszeit" statt.</strong></p><h4><spa
 n style="color: #008080;"><strong>Was erwartet dich in diesem Workshop?</st
 rong></span><br /> *Wir probieren traditionelle Anwendungen wie bspw. Wicke
 l gemeinsam aus, denn was man einmal selber gemacht hat, vergisst man nicht
  mehr!<br /> *Wir tauschen Tipps und Tricks aus, um Kinder für die Hausmitt
 el zu gewinnen.<br /> *Wir überlegen, was aus unserem Haushalt verwendbar i
 st. Hausmittel werden aus Dingen hergestellt – die man zu Hause hat.<br /> 
 *Wir lernen Zutaten aus unserem Küchenschrank kennen, die spontan, jederzei
 t zur Verfügung stehen.</h4><p>Alle selbst hergestellten Hausmittel kannst 
 du mit nach Hause nehmen!</p><p> </p><h3><span style="color: #008080;">Hust
 en, Schnupfen, Fieber, Bauchweh,… so oft gibt es kleine „Notfälle“ im Allta
 g mit Kindern!</span></h3><h4><span style="color: #008080;">Mit Hausmitteln
  kann man viele Beschwerden im Familienalltag lindern und den Kindern liebe
 voll helfen.</span></h4><p>------------------------------------------------
 ------------------------------------------------------------------<br /> 65
 ,- inkl. Material für die Hausmittel + Rezeptsammlung für zu Hause + Geträn
 ke // Dauer circa 3 Stunden // Anmeldung erforderlich // Beschränkte Teilne
 hmerInnenzahl // <a href="mailto:claudia@kinderhausmittel.com">claudia@kind
 erhausmittel.com</a> // +43650 500 9131 // <a href="http://www.kinderhausmi
 ttel.com/?fbclid=IwAR2d5a0oUX6kITNa7eV1Xdgg0JPPCCWw1IrFnWVdTCWjW-JSN7pQqtzq
 V6k">www.kinderhausmittel.com/</a></p><p>----------------------------------
 ---------------------------------------------------------------------------
 ------</p>
X-EXTRAINFO:[preis='6500'][anmeldung='true']
DTSTAMP:20260425T152753
DTSTART:20191021T073000
DTEND:20191021T103000
SEQUENCE:0
TRANSP:OPAQUE
END:VEVENT
END:VCALENDAR