BEGIN:VCALENDAR
VERSION:2.0
PRODID:-//jEvents 2.0 for Joomla//EN
CALSCALE:GREGORIAN
METHOD:PUBLISH
BEGIN:VEVENT
UID:d0ff7b415b0df9e68836463453d20b8f
CATEGORIES:17. Bezirk
CREATED:20190523T092941
SUMMARY:GRATIS-Schnupperstunde MINIMUSIK 0-4 Jahre
LOCATION:Polymorph\, Paschinggasse 8\, 1170 Wien
DESCRIPTION:Gratis-Schnupperstunde für Kinder im Alter von 0-4 Jahren in Begleitung ein
 es Erwachsenen\nSuchst du eine Musik- und Spielerunde für Dich und Dein Kin
 d? Ich biete immer montags Nachmittag Musikgruppen für Kleinkinder an. Zule
 tzt waren alle Kurse ziemlich rasch ausgebucht. Also vorbeischauen und bald
  reservieren lohnt sich!\n\nWir singen, spielen, musizieren und bewegen uns
  in der MiniMusik zu neuen und alten Liedern und zu eigens für die MiniMusi
 k komponierten Songs. Es gibt Instrumente zum Mitmachen und wir gestalten B
 ewegungsspiele und Gruppenspiele mit unterschiedlichen Materialien, bei den
 en alle Spaß haben können.\nDabei wird ganz spielerisch die kindliche Wahrn
 ehmung und Feinmotorik gefördert. Die Kinder lernen ihre Energie in Gesang 
 und Bewegung umzusetzen und zwischen Stille, rhythmischer Bewegung und Aust
 oben zu koordinieren.\nSich gemeinsam im Gruppengesang und Gruppenklang geb
 orgen fühlen, sich ausruhen und austoben zu können und selber zu gestalten 
 – alleine und miteinander, dies alles sind wertvolle Erfahrungen, die die M
 iniMusik den Kindern bietet.\nInfos unter: www.minimusik.at (http://www.min
 imusik.at) &amp; www.facebook.com/lisa.farthoferschmid (http://www.facebook
 .com/lisa.farthoferschmid)\nSollte der Termin für Dich nicht möglich sein, 
 ruf mich an oder schreib mir eine E-mail, dann können wir einen anderen Ter
 min vereinbaren.\n
X-ALT-DESC;FMTTYPE=text/html:<p><strong>Gratis-Schnupperstunde </strong>für Kinder im Alter von 0-4 Jahr
 en in Begleitung eines Erwachsenen</p><p><strong>Suchst du eine Musik- und 
 Spielerunde für Dich und Dein Kind?</strong> Ich biete immer montags Nachmi
 ttag Musikgruppen für Kleinkinder an. Zuletzt waren alle Kurse ziemlich ras
 ch ausgebucht. Also vorbeischauen und bald reservieren lohnt sich!<strong><
 br /></strong></p><p><strong>Wir singen, spielen, musizieren und bewegen un
 s </strong>in der MiniMusik zu neuen und alten Liedern und zu eigens für di
 e MiniMusik komponierten Songs. Es gibt Instrumente zum Mitmachen und wir g
 estalten Bewegungsspiele und Gruppenspiele mit unterschiedlichen Materialie
 n, bei denen alle Spaß haben können.</p><p><strong>Dabei wird ganz spieleri
 sch die kindliche Wahrnehmung und Feinmotorik gefördert</strong>. Die Kinde
 r lernen ihre Energie in Gesang und Bewegung umzusetzen und zwischen Stille
 , rhythmischer Bewegung und Austoben zu koordinieren.</p><p><strong>Sich ge
 meinsam im Gruppengesang und Gruppenklang geborgen fühlen</strong>, sich au
 sruhen und austoben zu können und selber zu gestalten – alleine und miteina
 nder, dies alles sind wertvolle Erfahrungen, die die MiniMusik den Kindern 
 bietet.</p><p>Infos unter: <a href="http://www.minimusik.at">www.minimusik.
 at</a> &amp; <a href="http://www.facebook.com/lisa.farthoferschmid">www.fac
 ebook.com/lisa.farthoferschmid</a></p><p>Sollte der Termin für Dich nicht m
 öglich sein, ruf mich an oder schreib mir eine E-mail, dann können wir eine
 n anderen Termin vereinbaren.</p>
CONTACT:Lisa Farthofer-Schmid: MiniMusikWien@gmail.com, 0699-13804247 
X-EXTRAINFO:[preis='000'][anmeldung='true']
DTSTAMP:20260424T175000
DTSTART:20190624T124000
DTEND:20190624T133000
SEQUENCE:0
TRANSP:OPAQUE
END:VEVENT
END:VCALENDAR