BEGIN:VCALENDAR
VERSION:2.0
PRODID:-//jEvents 2.0 for Joomla//EN
CALSCALE:GREGORIAN
METHOD:PUBLISH
BEGIN:VEVENT
UID:035b688d16311560b4c95bd33535ecba
CATEGORIES:17. Bezirk
CREATED:20190523T093417
SUMMARY:GRATIS-Schnupperstunde MINIMUSIK 2-4 Jahre
LOCATION:Polymorph\, Paschinggasse 8\, 1170 Wien
DESCRIPTION:Für Kinder im Alter von 2-4 Jahren in Begleitung eines Erwachsenen\nSuchst 
 du eine Musik- und Spielerunde für Dich und Dein Kind? Ich biete immer mont
 ags Nachmittag Musikgruppen für Kleinkinder an. Zuletzt waren alle Kurse zi
 emlich rasch ausgebucht. Also vorbeischauen und bald reservieren lohnt sich
 ! \n\nWir singen, spielen, musizieren und bewegen uns in der MiniMusik zu n
 euen und alten Liedern und zu eigens für die MiniMusik komponierten Songs. 
 Es gibt Instrumente zum Mitmachen und wir gestalten Bewegungsspiele und Gru
 ppenspiele mit unterschiedlichen Materialien, bei denen alle Spaß haben kön
 nen.\nDabei wird ganz spielerisch die kindliche Wahrnehmung und Feinmotorik
  gefördert. Die Kinder lernen ihre Energie in Gesang und Bewegung umzusetze
 n und zwischen Stille, rhythmischer Bewegung und Austoben zu koordinieren.\
 nSich gemeinsam im Gruppengesang und Gruppenklang geborgen fühlen, sich aus
 ruhen und austoben zu können und selber zu gestalten – alleine und miteinan
 der, dies alles sind wertvolle Erfahrungen, die die MiniMusik den Kindern b
 ietet.\nInfos unter: www.minimusik.at (http://www.minimusik.at) &amp; www.f
 acebook.com/lisa.farthoferschmid (http://www.facebook.com/lisa.farthofersch
 mid)\n
X-ALT-DESC;FMTTYPE=text/html:<p><strong>Für Kinder im Alter von 2-4 Jahren in Begleitung eines Erwachsen
 en</strong></p><p><strong>Suchst du eine Musik- und Spielerunde für Dich un
 d Dein Kind?</strong> Ich biete immer montags Nachmittag Musikgruppen für K
 leinkinder an. Zuletzt waren alle Kurse ziemlich rasch ausgebucht. Also vor
 beischauen und bald reservieren lohnt sich! <strong><br /></strong></p><p><
 strong>Wir singen, spielen, musizieren und bewegen uns </strong>in der Mini
 Musik zu neuen und alten Liedern und zu eigens für die MiniMusik komponiert
 en Songs. Es gibt Instrumente zum Mitmachen und wir gestalten Bewegungsspie
 le und Gruppenspiele mit unterschiedlichen Materialien, bei denen alle Spaß
  haben können.</p><p><strong>Dabei wird ganz spielerisch die kindliche Wahr
 nehmung und Feinmotorik gefördert</strong>. Die Kinder lernen ihre Energie 
 in Gesang und Bewegung umzusetzen und zwischen Stille, rhythmischer Bewegun
 g und Austoben zu koordinieren.</p><p><strong>Sich gemeinsam im Gruppengesa
 ng und Gruppenklang geborgen fühlen</strong>, sich ausruhen und austoben zu
  können und selber zu gestalten – alleine und miteinander, dies alles sind 
 wertvolle Erfahrungen, die die MiniMusik den Kindern bietet.</p><p>Infos un
 ter: <a href="http://www.minimusik.at">www.minimusik.at</a> &amp; <a href="
 http://www.facebook.com/lisa.farthoferschmid">www.facebook.com/lisa.farthof
 erschmid</a></p>
CONTACT:Lisa Farthofer-Schmid: MiniMusikWien@gmail.com, 0699-13804247 
X-EXTRAINFO:[preis='000'][anmeldung='true']
DTSTAMP:20260424T174930
DTSTART:20190603T135000
DTEND:20190603T143000
SEQUENCE:0
TRANSP:OPAQUE
END:VEVENT
END:VCALENDAR