BEGIN:VCALENDAR
VERSION:2.0
PRODID:-//jEvents 2.0 for Joomla//EN
CALSCALE:GREGORIAN
METHOD:PUBLISH
BEGIN:VEVENT
UID:82f0911890356513bda2094d319dbdb6
CATEGORIES:17. Bezirk
CREATED:20190523T093538
SUMMARY:GRATIS-Schnupperstunde MINIMUSIK 2-4Jahre
LOCATION:Polymorph\, Paschinggasse 8\, 1170 Wien
DESCRIPTION:Für Kinder im Alter von 2-4 Jahren in Begleitung eines Erwachsenen\nSuchst 
 du eine Musik- und Spielerunde für Dich und Dein Kind? Ich biete immer mont
 ags Nachmittag Musikgruppen für Kleinkinder an. Zuletzt waren alle Kurse zi
 emlich rasch ausgebucht. Also vorbeischauen und bald reservieren lohnt sich
 ! \n\nWir singen, spielen, musizieren und bewegen uns in der MiniMusik zu n
 euen und alten Liedern und zu eigens für die MiniMusik komponierten Songs. 
 Es gibt Instrumente zum Mitmachen und wir gestalten Bewegungsspiele und Gru
 ppenspiele mit unterschiedlichen Materialien, bei denen alle Spaß haben kön
 nen.\nDabei wird ganz spielerisch die kindliche Wahrnehmung und Feinmotorik
  gefördert. Die Kinder lernen ihre Energie in Gesang und Bewegung umzusetze
 n und zwischen Stille, rhythmischer Bewegung und Austoben zu koordinieren.\
 nSich gemeinsam im Gruppengesang und Gruppenklang geborgen fühlen, sich aus
 ruhen und austoben zu können und selber zu gestalten – alleine und miteinan
 der, dies alles sind wertvolle Erfahrungen, die die MiniMusik den Kindern b
 ietet.\nInfos unter: www.minimusik.at (http://www.minimusik.at) &amp; www.f
 acebook.com/lisa.farthoferschmid (http://www.facebook.com/lisa.farthofersch
 mid)\n
X-ALT-DESC;FMTTYPE=text/html:<div class="eventContent"><p><strong>Für Kinder im Alter von 2-4 Jahren in 
 Begleitung eines Erwachsenen</strong></p><p><strong>Suchst du eine Musik- u
 nd Spielerunde für Dich und Dein Kind?</strong> Ich biete immer montags Nac
 hmittag Musikgruppen für Kleinkinder an. Zuletzt waren alle Kurse ziemlich 
 rasch ausgebucht. Also vorbeischauen und bald reservieren lohnt sich! <stro
 ng><br /></strong></p><p><strong>Wir singen, spielen, musizieren und bewege
 n uns </strong>in der MiniMusik zu neuen und alten Liedern und zu eigens fü
 r die MiniMusik komponierten Songs. Es gibt Instrumente zum Mitmachen und w
 ir gestalten Bewegungsspiele und Gruppenspiele mit unterschiedlichen Materi
 alien, bei denen alle Spaß haben können.</p><p><strong>Dabei wird ganz spie
 lerisch die kindliche Wahrnehmung und Feinmotorik gefördert</strong>. Die K
 inder lernen ihre Energie in Gesang und Bewegung umzusetzen und zwischen St
 ille, rhythmischer Bewegung und Austoben zu koordinieren.</p><p><strong>Sic
 h gemeinsam im Gruppengesang und Gruppenklang geborgen fühlen</strong>, sic
 h ausruhen und austoben zu können und selber zu gestalten – alleine und mit
 einander, dies alles sind wertvolle Erfahrungen, die die MiniMusik den Kind
 ern bietet.</p><p>Infos unter: <a href="http://www.minimusik.at">www.minimu
 sik.at</a> &amp; <a href="http://www.facebook.com/lisa.farthoferschmid">www
 .facebook.com/lisa.farthoferschmid</a></p></div>
CONTACT:Lisa Farthofer-Schmid: MiniMusikWien@gmail.com, 0699-13804247 
X-EXTRAINFO:[preis='000'][anmeldung='true']
DTSTAMP:20260424T184507
DTSTART:20190617T135000
DTEND:20190617T143000
SEQUENCE:0
TRANSP:OPAQUE
END:VEVENT
END:VCALENDAR