BEGIN:VCALENDAR
VERSION:2.0
PRODID:-//jEvents 2.0 for Joomla//EN
CALSCALE:GREGORIAN
METHOD:PUBLISH
BEGIN:VEVENT
UID:b1aa7152c53572edeaca96bfb709b306
CATEGORIES:17. Bezirk
CREATED:20190523T093850
SUMMARY:GRATIS-Schnupperstunde MINIMUSIK 0-2Jahre
LOCATION:Polymorph\, Paschinggasse 8\, 1170 Wien
DESCRIPTION:<p><strong>Für Babies und Kleinkinder im Alter von 0-2 Jahren in Begleitung
  eines Erwachsenen</strong></p><p><strong>Suchst du eine Musik- und Spieler
 unde für Dich und Dein Kind?</strong> Ich biete immer montags Nachmittag Mu
 sikgruppen für Kleinkinder an. Zuletzt waren alle Kurse ziemlich rasch ausg
 ebucht. Also vorbeischauen und bald reservieren lohnt sich! <strong><br /><
 /strong></p><p><strong>Macht es Dir und Deinem Kind Spaß, zusammen zu singe
 n, zu plaudern und zu brabbeln, zu scherzen und Euch zu bewegen?</strong> H
 ört Dein Kind gerne Deine Stimme, beruhigst Du es manchmal sanft mit einer 
 kleinen Melodie oder inbrünstig mit einem ganzen Repertoire an Kinderlieder
 n? In der MiniMusik bist Du genau richtig, egal wieviel musikalische Erfahr
 ung Du hast.</p><p><strong>Wir singen alte und neue Kinderlieder, machen lu
 stige Bewegungsspiele,</strong> die nicht nur Dein Kind zum Lachen bringen,
  und fördern ganz spielerisch die feinmotorische, soziale und sprachliche E
 ntwicklung Deines Kindes.</p><p>Infos unter: <a href="http://www.minimusik.
 at">www.minimusik.at</a> &amp; <a href="http://www.facebook.com/lisa.fartho
 ferschmid">www.facebook.com/lisa.farthoferschmid</a></p>
CONTACT:Lisa Farthofer-Schmid: MiniMusikWien@gmail.com, Tel.: 0699-13804247 
X-EXTRAINFO:[preis='000'][anmeldung='true']
DTSTAMP:20260424T184702
DTSTART:20190603T124000
DTEND:20190603T133000
SEQUENCE:0
TRANSP:OPAQUE
END:VEVENT
END:VCALENDAR