BEGIN:VCALENDAR
VERSION:2.0
PRODID:-//jEvents 2.0 for Joomla//EN
CALSCALE:GREGORIAN
METHOD:PUBLISH
BEGIN:VEVENT
UID:705f4cf2db92afe3b461f9c32b78bf03
CATEGORIES:17. Bezirk
CREATED:20190523T093955
SUMMARY:GRATIS-Schnupperstunde MINIMUSIK 0-2Jahre
LOCATION:Polymorph\, Paschinggasse 8\, 1170 Wien
DESCRIPTION:Für Babies und Kleinkinder im Alter von 0-2 Jahren in Begleitung eines Erwa
 chsenen\nSuchst du eine Musik- und Spielerunde für Dich und Dein Kind? Ich 
 biete immer montags Nachmittag Musikgruppen für Kleinkinder an. Zuletzt war
 en alle Kurse ziemlich rasch ausgebucht. Also vorbeischauen und bald reserv
 ieren lohnt sich! \n\nMacht es Dir und Deinem Kind Spaß, zusammen zu singen
 , zu plaudern und zu brabbeln, zu scherzen und Euch zu bewegen? Hört Dein K
 ind gerne Deine Stimme, beruhigst Du es manchmal sanft mit einer kleinen Me
 lodie oder inbrünstig mit einem ganzen Repertoire an Kinderliedern? In der 
 MiniMusik bist Du genau richtig, egal wieviel musikalische Erfahrung Du has
 t.\nWir singen alte und neue Kinderlieder, machen lustige Bewegungsspiele, 
 die nicht nur Dein Kind zum Lachen bringen, und fördern ganz spielerisch di
 e feinmotorische, soziale und sprachliche Entwicklung Deines Kindes.\nInfos
  unter: www.minimusik.at (http://www.minimusik.at) &amp; www.facebook.com/l
 isa.farthoferschmid (http://www.facebook.com/lisa.farthoferschmid)\n
X-ALT-DESC;FMTTYPE=text/html:<div class="eventContent"><p><strong>Für Babies und Kleinkinder im Alter vo
 n 0-2 Jahren in Begleitung eines Erwachsenen</strong></p><p><strong>Suchst 
 du eine Musik- und Spielerunde für Dich und Dein Kind?</strong> Ich biete i
 mmer montags Nachmittag Musikgruppen für Kleinkinder an. Zuletzt waren alle
  Kurse ziemlich rasch ausgebucht. Also vorbeischauen und bald reservieren l
 ohnt sich! <strong><br /></strong></p><p><strong>Macht es Dir und Deinem Ki
 nd Spaß, zusammen zu singen, zu plaudern und zu brabbeln, zu scherzen und E
 uch zu bewegen?</strong> Hört Dein Kind gerne Deine Stimme, beruhigst Du es
  manchmal sanft mit einer kleinen Melodie oder inbrünstig mit einem ganzen 
 Repertoire an Kinderliedern? In der MiniMusik bist Du genau richtig, egal w
 ieviel musikalische Erfahrung Du hast.</p><p><strong>Wir singen alte und ne
 ue Kinderlieder, machen lustige Bewegungsspiele,</strong> die nicht nur Dei
 n Kind zum Lachen bringen, und fördern ganz spielerisch die feinmotorische,
  soziale und sprachliche Entwicklung Deines Kindes.</p><p>Infos unter: <a h
 ref="http://www.minimusik.at">www.minimusik.at</a> &amp; <a href="http://ww
 w.facebook.com/lisa.farthoferschmid">www.facebook.com/lisa.farthoferschmid<
 /a></p></div>
CONTACT:Lisa Farthofer-Schmid: MiniMusikWien@gmail.com, Tel.: 0699-13804247 
X-EXTRAINFO:[preis='000'][anmeldung='true']
DTSTAMP:20260424T184311
DTSTART:20190617T124000
DTEND:20190617T133000
SEQUENCE:0
TRANSP:OPAQUE
END:VEVENT
END:VCALENDAR