BEGIN:VCALENDAR
VERSION:2.0
PRODID:-//jEvents 2.0 for Joomla//EN
CALSCALE:GREGORIAN
METHOD:PUBLISH
BEGIN:VEVENT
UID:c71167deb769f3af030b4e1ec5eb861a
CATEGORIES:Wien Umgebung
CREATED:20190604T103830
SUMMARY:spielerische Reitkurse 
LOCATION:3001 Mauerbach (10 Mintuten von Wien)
DESCRIPTION:Liebe Pferdefreunde!\nDer ReitKINDERGARTEN Wien und Umgebung lädt wieder he
 rzlich zum Schnuppern ein!\nIm Herbst 2019 gibt es wieder freie Kursplätze 
 und wir möchten Euch die Gelegenheit bieten, sich von unserem spielerischen
  Reiteinstiegskonzept einen ersten Eindruck zu verschaffen!\nUnsere Reitpro
 gramme richten sich an Kinder im Alter von 2 bis 6 Jahren, die auf eine spi
 elerische, kindgerechte und pferdefreundliche Art und Weise einen vertrauen
 svollen Umgang mit dem Pferd erlernen möchten. \nSave the date! F.E.B.S. fü
 r Kinder ab 3 Jahren \nWann? \nam Freitag, den 14.Juni 2019\nGruppe I: 14:5
 0 bis 15:50 Uhr\nGruppe II: 16:00 bis 17:00 Uhr\nGruppe III: 17:10 bis 18:1
 0 Uhr\nWo?\nReitstall Renner\nHirschengarten 120, 3001 Mauerbach\nDie Teiln
 ahme erfolgt ausschließlich nach Voranmeldung unter info@reitkindergarten (
 mailto:info@reitkindergarten)-wien.at \nWir freuen uns auf Euch! \nSophie B
 ittner und das ReitKINDERGARTEN Team \n
X-ALT-DESC;FMTTYPE=text/html:<p class="lb rb"><span class="lb rb">Liebe Pferdefreunde!</span></p><p clas
 s="lb rb"><span class="lb rb">Der ReitKINDERGARTEN Wien und Umgebung lädt w
 ieder herzlich zum Schnuppern ein!</span></p><p class="lb sb"><span class="
 lb sb">Im Herbst 2019 gibt es wieder freie Kursplätze und wir möchten Euch 
 die Gelegenheit bieten, sich von unserem spielerischen Reiteinstiegskonzept
  einen ersten Eindruck zu verschaffen!</span></p><p>Unsere Reitprogramme ri
 chten sich an Kinder im Alter von 2 bis 6 Jahren, die auf eine spielerische
 , kindgerechte und pferdefreundliche Art und Weise einen vertrauensvollen U
 mgang mit dem Pferd erlernen möchten. </p><p class="ob ub"><strong>Save the
  date!</strong> F.E.B.S. für Kinder ab 3 Jahren </p><p class="ob ub">Wann? 
 </p><p class="ob ub"><span class="ob ub">am <b>Freitag</b>, den 14.Juni 201
 9</span></p><p class="ob ub"><span class="ob ub">Gruppe I: 14:50 bis 15:50 
 Uhr<br /></span><span class="ob ub">Gruppe II: 16:00 bis 17:00 Uhr<br />Gru
 ppe III: 17:10 bis 18:10 Uhr</span></p><p class="ob ub"><span class="ob ub"
 >Wo?<br />Reitstall Renner<br />Hirschengarten 120, 3001 Mauerbach</span></
 p><p class="ob ub">Die Teilnahme erfolgt ausschließlich nach Voranmeldung u
 nter <a href="mailto:info@reitkindergarten">info@reitkindergarten</a>-wien.
 at </p><p>Wir freuen uns auf Euch! </p><p>Sophie Bittner und das ReitKINDER
 GARTEN Team </p>
CONTACT:info@reitkindergarten-wien.at
X-EXTRAINFO:[preis='2200'][anmeldung='true']
DTSTAMP:20260425T103910
DTSTART:20190614T151000
DTEND:20190614T161000
SEQUENCE:0
TRANSP:OPAQUE
END:VEVENT
END:VCALENDAR