BEGIN:VCALENDAR
VERSION:2.0
PRODID:-//jEvents 2.0 for Joomla//EN
CALSCALE:GREGORIAN
METHOD:PUBLISH
BEGIN:VEVENT
UID:9011d424e37c78fea2a58e882e05855e
CATEGORIES:10. Bezirk
CREATED:20190604T204429
SUMMARY:Kleinkind-Treff
LOCATION:1100 Wien\, Absberggasse 27/Objekt 19/Erdgeschoß
DESCRIPTION:<p>Der Kleinkind-Treff in den Räumlichkeiten des Objekt 19 in der Brotfabri
 k ist ein <strong>Ort der Begegnung von Erwachsenen und Kindern ab 12 Monat
 en</strong>. Es kann miteinander gespielt und neue Bekanntschaften gemacht 
 werden. Spielmaterialien, ein Wickelraum mit Sanitäranlagen und ein Platz, 
 an dem Sie Ihre Kinderwägen abstellen können, stehen zur Verfügung. Alle Te
 ilnehmenden sind dazu eingeladen, eigene Gestaltungsideen miteinzubringen. 
 In der benachbarten <strong>Kantine</strong> können Sie sich bis 16 Uhr mit
  Getränken und Snacks versorgen (kein Konsumzwang).</p><p>Eine Voranmeldung
  ist nicht notwendig.</p><p>Die Teilnahme ist kostenlos.</p><p><a href="htt
 ps://www.facebook.com/events/261935577971579/">https://www.facebook.com/eve
 nts/261935577971579/</a></p>
CONTACT:https://www.facebook.com/Objekt19/
DTSTAMP:20260424T143636
DTSTART:20190617T130000
DTEND:20190617T150000
SEQUENCE:0
TRANSP:OPAQUE
END:VEVENT
END:VCALENDAR