BEGIN:VCALENDAR
VERSION:2.0
PRODID:-//jEvents 2.0 for Joomla//EN
CALSCALE:GREGORIAN
METHOD:PUBLISH
BEGIN:VEVENT
UID:f5065531a1450041b1bbe96cc21c42ce
CATEGORIES:10. Bezirk
CREATED:20190604T204632
SUMMARY:Kleinkind-Treff
LOCATION:1100 Wien\, Absberggasse 27/Objekt 19/Erdgeschoß
DESCRIPTION:Der Kleinkind-Treff in den Räumlichkeiten des Objekt 19 in der Brotfabrik i
 st ein Ort der Begegnung von Erwachsenen und Kindern ab 12 Monaten. Es kann
  miteinander gespielt und neue Bekanntschaften gemacht werden. Spielmateria
 lien, ein Wickelraum mit Sanitäranlagen und ein Platz, an dem Sie Ihre Kind
 erwägen abstellen können, stehen zur Verfügung. Alle Teilnehmenden sind daz
 u eingeladen, eigene Gestaltungsideen miteinzubringen. In der benachbarten 
 Kantine können Sie sich bis 16 Uhr mit Getränken und Snacks versorgen (kein
  Konsumzwang).\nEine Voranmeldung ist nicht notwendig.\nDie Teilnahme ist k
 ostenlos.\nhttps://www.facebook.com/events/261935577971579/\n
X-ALT-DESC;FMTTYPE=text/html:<p>Der Kleinkind-Treff in den Räumlichkeiten des Objekt 19 in der Brotfabri
 k ist ein <strong>Ort der Begegnung von Erwachsenen und Kindern ab 12 Monat
 en</strong>. Es kann miteinander gespielt und neue Bekanntschaften gemacht 
 werden. Spielmaterialien, ein Wickelraum mit Sanitäranlagen und ein Platz, 
 an dem Sie Ihre Kinderwägen abstellen können, stehen zur Verfügung. Alle Te
 ilnehmenden sind dazu eingeladen, eigene Gestaltungsideen miteinzubringen. 
 In der benachbarten <strong>Kantine</strong> können Sie sich bis 16 Uhr mit
  Getränken und Snacks versorgen (kein Konsumzwang).</p><p>Eine Voranmeldung
  ist nicht notwendig.</p><p>Die Teilnahme ist kostenlos.</p><p><a href="htt
 ps://www.facebook.com/events/261935577971579/">https://www.facebook.com/eve
 nts/261935577971579/</a></p>
CONTACT:https://www.facebook.com/Objekt19/
DTSTAMP:20260424T155519
DTSTART:20190624T130000
DTEND:20190624T150000
SEQUENCE:0
TRANSP:OPAQUE
END:VEVENT
END:VCALENDAR