BEGIN:VCALENDAR
VERSION:2.0
PRODID:-//jEvents 2.0 for Joomla//EN
CALSCALE:GREGORIAN
METHOD:PUBLISH
BEGIN:VEVENT
UID:4214e67a66c046d034ec29c4335fb055
CATEGORIES:3. Bezirk
CREATED:20190605T084437
SUMMARY:Kinder+Frauen Flohmarkt 16.Juni 2019 Wien-Modecenter
LOCATION:MGC Modecenter\, Leopold Böhm Strasse 8\, 1030 Wien
DESCRIPTION:Riesiger Hallenflohmarkt für Kinderkleidung, Spielzeug, Sportsachen (10-13h
 ) und Damenkleidung, Schuhe, Taschen, Schmuck, Kosmetik (16-19h) am Sonntag
  16.Juni 2019 im Modecenter Wien, Leopold Böhm Strasse 8, 1030 Wien. EINTRI
 TT FREI! Viele Parkplätze vorhanden! Kleines Buffet! U3 Gasometer und 5min 
 zu Fuss.\nNoch einige Standplätze frei! Standgebühr 35 Euro. Tische und Ses
 sel vorhanden! Jetzt rasch online buchen auf www.flohmarkt.geburtsallianz.a
 t (http://www.flohmarkt.geburtsallianz.at) oder per Email an flohmarkt@gebu
 rtsallianz.at oder per SMS an 0650-4455577\n
X-ALT-DESC;FMTTYPE=text/html:<p><strong>Riesiger Hallenflohmarkt</strong> für Kinderkleidung, Spielzeug,
  Sportsachen (10-13h) und Damenkleidung, Schuhe, Taschen, Schmuck, Kosmetik
  (16-19h) am Sonntag 16.Juni 2019 im Modecenter Wien, Leopold Böhm Strasse 
 8, 1030 Wien. EINTRITT FREI! Viele Parkplätze vorhanden! Kleines Buffet! U3
  Gasometer und 5min zu Fuss.</p><p><strong>Noch einige Standplätze frei!</s
 trong> Standgebühr 35 Euro. Tische und Sessel vorhanden! <em><strong>Jetzt 
 rasch online buchen</strong></em> auf <a href="http://www.flohmarkt.geburts
 allianz.at">www.flohmarkt.geburtsallianz.at</a> oder per Email an flohmarkt
 @geburtsallianz.at oder per SMS an 0650-4455577</p>
CONTACT:flohmarkt@geburtsallianz.at oder Tel.0650-4455577
DTSTAMP:20260424T143133
DTSTART:20190616T080000
DTEND:20190616T170000
SEQUENCE:0
TRANSP:OPAQUE
END:VEVENT
END:VCALENDAR