BEGIN:VCALENDAR
VERSION:2.0
PRODID:-//jEvents 2.0 for Joomla//EN
CALSCALE:GREGORIAN
METHOD:PUBLISH
BEGIN:VEVENT
UID:07ae397b91fb970f8bd8ed1f9f333062
CATEGORIES:18. Bezirk
CREATED:20190606T115031
SUMMARY:Babyplausch Spezial "Schlafen"
LOCATION:SPIELRINGEL Mollgasse 11-13
DESCRIPTION:Als Mama hat man oft das Bedürfnis sich mit anderen Mamas auszutauschen, da
 s könnt ihr ganz ungezwungen Freitag vormittags im Spielringel bei Tee und 
 Kuchen. Für die Babys gibt es allerlei zu entdecken!\nAn einigen Terminen, 
 beim "Babyplausch Spezial" ist Psychotherapeutin (in Ausbildung unter Super
 vision) Maria Asenbaum (http://schwangerschaft-elternschaft.at/das-team/mar
 ia/) mit speziellen Themen zu Gast:\n14.6.2019 „Babys Schlaf: wie wir Babys
  unterstützen können entspannt und `artgerecht` zu schlafen“\nKosten:\n 10,
 - Euro pro Erwachsenem\nInfo &amp; Anmeldung:\n ohne Anmeldung - komm einfa
 ch vorbei!\n \n
X-ALT-DESC;FMTTYPE=text/html:<p>Als Mama hat man oft das Bedürfnis sich mit anderen Mamas auszutauschen,
  das könnt ihr ganz ungezwungen Freitag vormittags im Spielringel bei Tee u
 nd Kuchen. Für die Babys gibt es allerlei zu entdecken!</p><p>An einigen Te
 rminen, beim "Babyplausch Spezial" ist Psychotherapeutin (in Ausbildung unt
 er Supervision) <a href="http://schwangerschaft-elternschaft.at/das-team/ma
 ria/">Maria Asenbaum</a> mit speziellen Themen zu Gast:</p><p>14.6.2019 „Ba
 bys Schlaf: wie wir Babys unterstützen können entspannt und `artgerecht` zu
  schlafen“</p><p><span class="text-primary">Kosten:</span><br /> 10,- Euro 
 pro Erwachsenem</p><p><span class="text-primary">Info &amp; Anmeldung:</spa
 n><br /> ohne Anmeldung - komm einfach vorbei!</p><p> </p>
CONTACT:http://schwangerschaft-elternschaft.at/angebote/spiel-spass-musik/babyplausch/
DTSTAMP:20260424T174931
DTSTART:20190614T083000
DTEND:20190614T103000
SEQUENCE:0
TRANSP:OPAQUE
END:VEVENT
END:VCALENDAR