BEGIN:VCALENDAR
VERSION:2.0
PRODID:-//jEvents 2.0 for Joomla//EN
CALSCALE:GREGORIAN
METHOD:PUBLISH
BEGIN:VEVENT
UID:4039ff775072fa406b9542799ac8c6b1
CATEGORIES:23. Bezirk
CREATED:19700101T010000
SUMMARY:Gemütliche Eltern-Kind-Gruppe  "Rabennesterl"
LOCATION:1230 Wien\, Kanitzgasse 1-3
DESCRIPTION:Herzlich Willkommen im Rabennesterl!   Die erste Zeit als Mama und Papa kan
 n herausfordernd sein. Deshalb haben wir einen gemütlichen Rahmen für dich 
 und dein Baby geschaffen, damit du dich mit anderen in Ruhe austauschen kan
 nst.   Einstieg ist jederzeit möglich und das Schnuppern kostenlos!   Näher
 e Infos auf www.rabennesterl.at (http://www.rabennesterl.at) Im Juli und Au
 gust probieren wir verschiedenen Spielplätze im 23. Bezirk aus - bitte scha
 u hierfür auf unsere Homepage! 
X-ALT-DESC;FMTTYPE=text/html:<div><strong>Herzlich Willkommen im Rabennesterl! </strong></div><div> </di
 v><div> </div><div>Die erste Zeit als Mama und Papa kann herausfordernd sei
 n. Deshalb haben wir einen gemütlichen Rahmen für dich und dein Baby gescha
 ffen, damit du dich mit anderen in Ruhe austauschen kannst. </div><div> </d
 iv><div> </div><div><strong>Einstieg ist jederzeit möglich und das Schnuppe
 rn kostenlos! </strong></div><div> </div><div> </div><div>Nähere Infos auf 
 <a href="http://www.rabennesterl.at">www.rabennesterl.at</a></div><div> </d
 iv><div><strong>Im Juli und August probieren wir verschiedenen Spielplätze 
 im 23. Bezirk aus - bitte schau hierfür auf unsere Homepage! </strong></div
 >
CONTACT: 0676 953 3770 
X-EXTRAINFO:[preis='000'][anmeldung='true']
DTSTAMP:20260423T081847
DTSTART:20190617T073000
DTEND:20190617T090000
SEQUENCE:0
RRULE:FREQ=WEEKLY;UNTIL=20200101T000000Z;INTERVAL=1;BYDAY=MO
TRANSP:OPAQUE
END:VEVENT
END:VCALENDAR