BEGIN:VCALENDAR
VERSION:2.0
PRODID:-//jEvents 2.0 for Joomla//EN
CALSCALE:GREGORIAN
METHOD:PUBLISH
BEGIN:VEVENT
UID:3e3def4d9949cb6c2de2cceca704cbef
CATEGORIES:6. Bezirk
CREATED:19700101T010000
SUMMARY:Bewegungswelt
LOCATION:6.\, Sandwirtgasse 13/12
DESCRIPTION:Spielgruppe BewegungsweltFür Kinder von 8 bis 18 MonatenKursleitung: Martin
 a\nKurstag: Dienstag\nKurszeit: 11.00 - 12.00 Uhr\n \n Spielgruppe mit Bewe
 gungsschwerpunkt\n- Kletterbogen\n- Kriechtunnel\n- Bewegungs-Landschaften\
 n- Ballspiele\n- Sing- und Tanzspiele\nDie Bewegungswelt  ist für Kinder vo
 n 8 Monaten - 1,5 Jahren. Wir krabbeln, kuscheln, singen, springen, krieche
 n und tanzen – und haben gemeinsam jede Menge Spaß. So stärken wir Körperge
 fühl, Grobmotorik und die Lust, uns zu bewegen.\n \nTermine im Sommer 2019\
 n2. und 9. Juli\n6., 13., 20., 27. August\n \nBuchbar mit der Blockkarte  (
 https://www.biolino.at/spielgruppen/die-blockkarte/)oder der Sommerspaß-Kar
 te (https://www.biolino.at/sommerspass/)\nwww.biolino.at (http://www.biolin
 o.at/)\n
X-ALT-DESC;FMTTYPE=text/html:<h1>Spielgruppe Bewegungswelt</h1><h3>Für Kinder von 8 bis 18 Monaten</h3><
 p><strong>Kursleitung</strong>: Martina</p><p><strong>Kurstag</strong>: Die
 nstag</p><p><strong>Kurszeit</strong>: 11.00 - 12.00 Uhr<br /> <br /> <stro
 ng>Spielgruppe mit Bewegungsschwerpunkt</strong></p><p>- Kletterbogen</p><p
 >- Kriechtunnel</p><p>- Bewegungs-Landschaften</p><p>- Ballspiele</p><p>- S
 ing- und Tanzspiele</p><p>Die <strong>Bewegungswelt</strong>  ist für Kinde
 r von <strong>8 Monaten - 1,5 Jahren</strong>. Wir krabbeln, kuscheln, sing
 en, springen, kriechen und tanzen – und haben gemeinsam jede Menge Spaß. So
  stärken wir Körpergefühl, Grobmotorik und die Lust, uns zu bewegen.</p><p>
  </p><p><strong>Termine im Sommer 2019</strong></p><p>2. und 9. Juli</p><p>
 6., 13., 20., 27. August</p><p> </p><p>Buchbar mit der <a href="https://www
 .biolino.at/spielgruppen/die-blockkarte/">Blockkarte </a>oder der <a href="
 https://www.biolino.at/sommerspass/">Sommerspaß-Karte</a></p><p><a href="ht
 tp://www.biolino.at/">www.biolino.at</a></p>
CONTACT:067762892970, martina.novak@biolino.at
DTSTAMP:20260424T212359
DTSTART:20190702T090000
DTEND:20190702T100000
SEQUENCE:0
RRULE:FREQ=WEEKLY;UNTIL=20190710T000000Z;INTERVAL=1;BYDAY=TU
TRANSP:OPAQUE
END:VEVENT
END:VCALENDAR