BEGIN:VCALENDAR
VERSION:2.0
PRODID:-//jEvents 2.0 for Joomla//EN
CALSCALE:GREGORIAN
METHOD:PUBLISH
BEGIN:VEVENT
UID:77e159d6ce96a39bb633b0ffa1b1a876
CATEGORIES:6. Bezirk
CREATED:19700101T010000
SUMMARY:Baby-Atelier
LOCATION:6.\, Sandwirtgasse 13/12
DESCRIPTION:<h2>Biolino Baby-Atelier</h2><h3>Für Kinder ab dem Sitzalter bis 2,5 Jahre<
 /h3><p><strong>Kursleitung</strong>: Martina</p><p><strong>Kurstag</strong>
 : Mittwoch</p><p><strong>Gruppe 1</strong>: 09.30 - 10.30 Uhr<br /> <strong
 >Gruppe 2</strong>: 11.00 - 12.00 Uhr</p><p><strong>Spielgruppe mit dem Sch
 werpunkt haptische Sinnesschulung</strong></p><p>- Experimentieren mit Farb
 en, Konsistenzen und unterschiedlichsten Materialien</p><p>Die kleinen Küns
 tlerinnen und Künstler können im Biolino Baby-Atelier nach Herzenslust mit 
 selbst hergestellten Bio-Farben matschen und gatschen, ohne dass Mama oder 
 Papa nachher aufräumen müssen. Über das ganze Semester verteilt führen wir 
 immer wieder neues Erlebnismaterial in die Gruppe ein.<br /> <br /> Klebrig
 , matschig, bröselig, kratzig: Sand, Erde, Getreidekörner, Holz und viele a
 ndere haptische Anregungen warten auf experimentierfreudige Entdecker*innen
 . Die Kinder können nach Herzenslust die Bio-Farben und Materialien mischen
  und dabei mit allen Sinnen erleben, wie sie ihre Eigenschaften verändern.<
 /p><p><strong>Termine im Sommer 2019</strong></p><ol start="3"><li>und 10. 
 Juli</li></ol><p>7., 14., 21., 28. August</p><p> </p><p>Buchbar mit der <a 
 href="https://www.biolino.at/spielgruppen/die-blockkarte/">Blockkarte </a>o
 der der <a href="https://www.biolino.at/sommerspass/">Sommerspaß-Karte</a><
 /p><p><a href="http://www.biolino.at/">www.biolino.at</a></p>
CONTACT:067762892970, martina.novak@biolino.at
DTSTAMP:20260424T181631
DTSTART:20190807T073000
DTEND:20190807T083000
SEQUENCE:0
RRULE:FREQ=WEEKLY;UNTIL=20190829T000000Z;INTERVAL=1;BYDAY=WE
TRANSP:OPAQUE
END:VEVENT
END:VCALENDAR