BEGIN:VCALENDAR
VERSION:2.0
PRODID:-//jEvents 2.0 for Joomla//EN
CALSCALE:GREGORIAN
METHOD:PUBLISH
BEGIN:VEVENT
UID:0a92bb1380517f47fe514d12f2b906ff
CATEGORIES:21. Bezirk
CREATED:19700101T010000
SUMMARY:Rückbildungsgymnastik nach der CANTIENICA®- Methode mit Baby
LOCATION:1210 Wien\, Little Suns\, Donaufelder Straße 103/2/2
DESCRIPTION:<p>Das Training kräftigt sanft und sicher ihren ganzen Körper nach der Gebu
 rt und entspannt ihren Geist.</p><p>Mit gezielten Übungen für Bauch, Becken
 boden, Rücken, Schultern usw. bringt es schnellen Erfolg und macht Spaß.</p
 ><p> </p><p><strong>Ab wann kann begonnen werden:</strong></p><p>Bei Sponta
 ngeburt ohne Komplikationen: ab 6-8 Wochen nach der Geburt</p><p>Bei Kaiser
 schnitt: ab ca. 12 Wochen nach der Geburt oder nach Rücksprache mit ihrer G
 ynäkologe/in.</p><p> </p><p><strong>Mitzubringen sind: </strong></p><p>bequ
 eme Trainingsbekleidung, Handtuch und ev. Tragetuch/ Trage.</p><p>Trainings
 matten und –zubehör sind vor Ort.</p><p> </p><p><strong>Wann: </strong></p>
 <p>Freitags 11.00 – 11.50</p><p><strong>Kurs 1:</strong> am 06.09./ 13.09./
  27.09./ 04.10. und 11.10.2019</p><p> </p><p>Paketpreis je Kurs jeweils € 8
 5.-</p><p>(5x 50 Minuten)</p><p>individuelles Kleingruppentraining mit pers
 önlicher Betreuung mit max. 8 Teilnehmerinnen. </p><p>versäumte Kurstermine
  werden nicht rückerstattet.</p><p> </p><p>Anmeldung (unbedingt erforderlic
 h) und Fragen gerne unter <strong><a href="mailto:claudia.loeb@chello.at">c
 laudia.loeb@chello.at</a></strong></p><p> </p><p>Claudia Löb           </p>
 <p>Cantienica®-Trainerin, Wien    </p><p>0676/7371168                  </p>
 <p><a href="http://www.claudialöb.com">www.claudialöb.com</a></p><p> </p>
CONTACT:claudia.loeb@chello.at
DTSTAMP:20260423T182836
DTSTART:20190906T090000
DTEND:20190906T095000
SEQUENCE:0
RRULE:FREQ=WEEKLY;COUNT=9999;INTERVAL=1;BYDAY=FR,FR,FR,FR,FR
TRANSP:OPAQUE
END:VEVENT
END:VCALENDAR