BEGIN:VCALENDAR
VERSION:2.0
PRODID:-//jEvents 2.0 for Joomla//EN
CALSCALE:GREGORIAN
METHOD:PUBLISH
BEGIN:VEVENT
UID:10ba6db11bdc016b96a3522ceb4e7a66
CATEGORIES:21. Bezirk
CREATED:19700101T010000
SUMMARY:Rückbildungsgymnastik nach der CANTIENICA®- Methode mit Baby
LOCATION:1210 Wien\, Little Suns\, Donaufelder Straße 103/2/2
DESCRIPTION:Das Training kräftigt sanft und sicher ihren ganzen Körper nach der Geburt 
 und entspannt ihren Geist.\nMit gezielten Übungen für Bauch, Beckenboden, R
 ücken, Schultern usw. bringt es schnellen Erfolg und macht Spaß.\n \nAb wan
 n kann begonnen werden:\nBei Spontangeburt ohne Komplikationen: ab 6-8 Woch
 en nach der Geburt\nBei Kaiserschnitt: ab ca. 12 Wochen nach der Geburt ode
 r nach Rücksprache mit ihrer Gynäkologe/in.\n \nMitzubringen sind: \nbequem
 e Trainingsbekleidung, Handtuch und ev. Tragetuch/ Trage.\nTrainingsmatten 
 und –zubehör sind vor Ort.\n \nWann: \nFreitags 11.00 – 11.50\nKurs 2: am 2
 5.10./ 08.11./ 22.11./ 06.12. und 13.12.2019\n \nPaketpreis je Kurs jeweils
  € 85.-\n(5x 50 Minuten)\nindividuelles Kleingruppentraining mit persönlich
 er Betreuung mit max. 8 Teilnehmerinnen. \nversäumte Kurstermine werden nic
 ht rückerstattet.\n \nAnmeldung (unbedingt erforderlich) und Fragen gerne u
 nter claudia.loeb@chello.at (mailto:claudia.loeb@chello.at)\n \nClaudia Löb
            \nCantienica®-Trainerin, Wien    \n0676/7371168                 
  \nwww.claudialöb.com (http://www.xn--claudialb-77a.com/)\n
X-ALT-DESC;FMTTYPE=text/html:<p>Das Training kräftigt sanft und sicher ihren ganzen Körper nach der Gebu
 rt und entspannt ihren Geist.</p><p>Mit gezielten Übungen für Bauch, Becken
 boden, Rücken, Schultern usw. bringt es schnellen Erfolg und macht Spaß.</p
 ><p> </p><p><strong>Ab wann kann begonnen werden:</strong></p><p>Bei Sponta
 ngeburt ohne Komplikationen: ab 6-8 Wochen nach der Geburt</p><p>Bei Kaiser
 schnitt: ab ca. 12 Wochen nach der Geburt oder nach Rücksprache mit ihrer G
 ynäkologe/in.</p><p> </p><p><strong>Mitzubringen sind: </strong></p><p>bequ
 eme Trainingsbekleidung, Handtuch und ev. Tragetuch/ Trage.</p><p>Trainings
 matten und –zubehör sind vor Ort.</p><p> </p><p><strong>Wann: </strong></p>
 <p>Freitags 11.00 – 11.50</p><p><strong>Kurs 2:</strong> am 25.10./ 08.11./
  22.11./ 06.12. und 13.12.2019</p><p> </p><p>Paketpreis je Kurs jeweils € 8
 5.-</p><p>(5x 50 Minuten)</p><p>individuelles Kleingruppentraining mit pers
 önlicher Betreuung mit max. 8 Teilnehmerinnen. </p><p>versäumte Kurstermine
  werden nicht rückerstattet.</p><p> </p><p>Anmeldung (unbedingt erforderlic
 h) und Fragen gerne unter <strong><a href="mailto:claudia.loeb@chello.at">c
 laudia.loeb@chello.at</a></strong></p><p> </p><p>Claudia Löb           </p>
 <p>Cantienica®-Trainerin, Wien    </p><p>0676/7371168                  </p>
 <p><a href="http://www.xn--claudialb-77a.com/">www.claudialöb.com</a></p>
CONTACT:claudia.loeb@chello.at
DTSTAMP:20260423T194940
DTSTART:20191025T090000
DTEND:20191025T095000
SEQUENCE:0
RRULE:FREQ=WEEKLY;COUNT=9999;INTERVAL=1;BYDAY=FR,FR,FR,FR,FR
TRANSP:OPAQUE
END:VEVENT
END:VCALENDAR