BEGIN:VCALENDAR
VERSION:2.0
PRODID:-//jEvents 2.0 for Joomla//EN
CALSCALE:GREGORIAN
METHOD:PUBLISH
BEGIN:VEVENT
UID:a63e556e1a204738beb5f9dbb6629df8
CATEGORIES:2. Bezirk
CREATED:19700101T010000
SUMMARY:Babyturnen III (9-15 Monate) 
LOCATION:Kind&amp;Kegel Eltern-Kind-Zentrum\, 2.\, Praterstr. 14/8
DESCRIPTION: für Babys von 9-15 MonateFür Krabbelbabys und Babys, die ihre erste Schrit
 te wagen. Gemeinsam werden wir singen, turnen und tanzen. Damit schulen wir
  die Motorik und fördern den Spaß an der Bewegung. \nBitte rutschfeste Sock
 en  und Trinken mitbringen.\nDienstag, 09:30 - 10:30\nTurnus I: 20.9.,27.9.
 ,04.10.,11.10.,18.10.19\nTurnus II: 08.11.,15.11.,22.11.,29.11.,06.12.19\nT
 urnus III: 10.01.,17.01.,24.01.,31.01.,15.2.20\n \nKosten: € 65,- pro Turnu
 s, 5 Einheiten\nAnmeldung erforderlich!\n
X-ALT-DESC;FMTTYPE=text/html:<h2> </h2><h3>für Babys von 9-15 Monate</h3><p>Für Krabbelbabys und Babys, 
 die ihre erste Schritte wagen. Gemeinsam werden wir singen, turnen und tanz
 en. Damit schulen wir die Motorik und fördern den Spaß an der Bewegung. <br
  />Bitte rutschfeste Socken  und Trinken mitbringen.</p><p>Dienstag, 09:<sp
 an class="kleinhoch">30</span> - 10:<span class="kleinhoch">30</span></p><p
 >Turnus I: 20.9.,27.9.,04.10.,11.10.,18.10.19</p><p>Turnus II: 08.11.,15.11
 .,22.11.,29.11.,06.12.19</p><p><strong>Turnus III: 10.01.,17.01.,24.01.,31.
 01.,15.2.20</strong></p><p> <br />Kosten: € 65,- pro Turnus, 5 Einheiten<br
  />Anmeldung erforderlich!</p>
CONTACT:info@kind-und-kegel.at, 01 503 71 88, www.kind-und-kegel.at
X-EXTRAINFO:[preis='6500'][anmeldung='true']
DTSTAMP:20260423T182441
DTSTART:20190110T083000
DTEND:20190110T093000
SEQUENCE:0
RRULE:FREQ=WEEKLY;UNTIL=20190216T000000Z;INTERVAL=1;BYDAY=TH
TRANSP:OPAQUE
END:VEVENT
END:VCALENDAR