BEGIN:VCALENDAR
VERSION:2.0
PRODID:-//jEvents 2.0 for Joomla//EN
CALSCALE:GREGORIAN
METHOD:PUBLISH
BEGIN:VEVENT
UID:af2a68fdae1156c252f95d4226c06ed7
CATEGORIES:3. Bezirk
CREATED:20190627T174324
SUMMARY:Kinderkonzert MamaMusik
LOCATION:Marokkanergasse 5\, 1030 Wien
DESCRIPTION:Konzertserie „Kleinkinder sind herzlich willkommen!“MamaMusik organisiert m
 ind. 4 Mal pro Jahr kleine Konzerte mit professionellen Musikerinnen, bei d
 enen auch Kleinkinder herzlich willkommen sind. (Dauer ca. 1 Stunde, Vormit
 tag oder Nachmittag) \nIn Wien gibt es viele Angebote für Kinder, meistens 
 aber beginnen diese erst ab drei oder vier Jahren. \nBis etwa zum sechsten 
 Lebensjahr ist das Gefühl für Musik bereits einem großen Teil fertig entwic
 kelt. Deshalb ist es wichtig, so früh wie möglich damit zu beginnen, dieses
  Gefühl für Musik zu entwickeln und zu fördern. Dies erreicht man bei Klein
 kindern nur durch „echtes Erfahren“ mit den eigenen fünf Sinnen.\nVerstärkt
  wird das noch, wenn diese Erfahrungen mit der eigenen Mama gemacht werden.
 \n \n \n "Kleinkinder sind herzlich willkommen!" vol.4\n \n-Oper &amp; Oper
 ette- (https://www.facebook.com/events/473873900049602/)\n\nSamstag 29.06.2
 019 11 Uhr \nKonzertsaal / VIMAC / Marokkanergasse 5/Stiege 5/EG Top 17, 10
 30 Wien\n\nSoprano : Vanja Kugler Trajkovic, Michiko Schmitt\nTenor : Univ.
 -Prof. Dr. Wilfried Feichtinger\n Alexander Maximilian Lang (als Gast)\nKla
 vier : Nana Masutani\n\nErwachsene: 15€ Kinder: Kostenlos\nFacebook (https:
 //www.facebook.com/MamaMusik/?tn-str=k*F)\n#mamamusik (https://www.instagra
 m.com/mamamusik.wien/)\n \n
X-ALT-DESC;FMTTYPE=text/html:<div class="text-center"><h3 class="mb-10">Konzertserie „Kleinkinder sind h
 erzlich willkommen!“</h3></div><div><p>MamaMusik organisiert mind. 4 Mal pr
 o Jahr kleine Konzerte mit professionellen Musikerinnen, bei denen auch Kle
 inkinder herzlich willkommen sind. (Dauer ca. 1 Stunde, Vormittag oder Nach
 mittag) <br />In Wien gibt es viele Angebote für Kinder, meistens aber begi
 nnen diese erst ab drei oder vier Jahren. <br />Bis etwa zum sechsten Leben
 sjahr ist das Gefühl für Musik bereits einem großen Teil fertig entwickelt.
  Deshalb ist es wichtig, so früh wie möglich damit zu beginnen, dieses Gefü
 hl für Musik zu entwickeln und zu fördern. Dies erreicht man bei Kleinkinde
 rn nur durch „echtes Erfahren“ mit den eigenen fünf Sinnen.<br />Verstärkt 
 wird das noch, wenn diese Erfahrungen mit der eigenen Mama gemacht werden.<
 /p><p> </p><p> </p></div><p style="text-align: center;"><strong> "Kleinkind
 er sind herzlich willkommen!" vol.4</strong></p><p style="text-align: cente
 r;"> </p><p style="text-align: center;"><a href="https://www.facebook.com/e
 vents/473873900049602/">-Oper &amp; Operette-</a><br /><br /><strong>Samsta
 g 29.06.2019 11 Uhr </strong></p><p style="text-align: center;"><a href="ht
 tps://goo.gl/maps/q8DHvWT1z5HPw1Hs9">Konzertsaal / VIMAC / Marokkanergasse 
 5/Stiege 5/EG Top 17, 1030 Wien</a><br /><br />Soprano : Vanja Kugler Trajk
 ovic, Michiko Schmitt<br />Tenor : Univ.-Prof. Dr. Wilfried Feichtinger<br 
 /> Alexander Maximilian Lang (als Gast)<br />Klavier : Nana Masutani<br /><
 br />Erwachsene: 15€ Kinder: Kostenlos</p><p><a href="https://www.facebook.
 com/MamaMusik/?tn-str=k*F">Facebook</a></p><p><a href="https://www.instagra
 m.com/mamamusik.wien/">#mamamusik</a></p><p> </p>
CONTACT:Vanja Kugler Trajkovic, Tel.: +43 681 845 84 840
X-EXTRAINFO:[preis='1500'][anmeldung='false']
DTSTAMP:20260424T142415
DTSTART:20190629T090000
DTEND:20190629T100000
SEQUENCE:0
TRANSP:OPAQUE
END:VEVENT
END:VCALENDAR