BEGIN:VCALENDAR
VERSION:2.0
PRODID:-//jEvents 2.0 for Joomla//EN
CALSCALE:GREGORIAN
METHOD:PUBLISH
BEGIN:VEVENT
UID:8a354a6ee16f5b4a81c9368c18669ae8
CATEGORIES:14. Bezirk
CREATED:20190701T120422
SUMMARY:DERKREATIVRAUM14- PEKiP
LOCATION:derkreativraum14
DESCRIPTION:PEKiP® - Das Prager Eltern - Kind - Programm\nVon Geburt an begegnen Babies
  uns als eigenständige Persönlichkeiten. Das Prager Eltern - Kind - Program
 m wendet sich an Eltern, die die ganzheitliche Entwicklung ihres Kindes im 
 ersten Lebensjahr durch spielerische Anregungen bewußt unterstützen wollen.
 \nUnsere PEKiP® - Gruppe ist ein Spiel- und Förderangebot für Babies ab der
  6. Lebenswoche mit ihrer erwachsenen Bezugsperson.\nIn einem gut beheizten
  und sauberen Raum wollen wir uns bewußt Zeit für unser Baby nehmen, es in 
 seiner momentanen Situation wahrnehmen, begleiten und zu Bewegungen anregen
 . Das Baby ist während der Spielzeit nackt, damit es großtmöglichste Bewegu
 ngsfreiheit hat.\nIm Vordergrund stehen die Bedürnisse des Babies und die V
 ertiefung der Beziehung zwischen ihm und seiner Bezugsperson.\nUnter andere
 m hat das Baby die Möglichkeit mit anderen Babies und deren Eltern Erfahrun
 gen zu sammeln.\nAuch die Erwachsenen haben die Zeit, sich untereinander au
 szutauschen.\nBitte mitbringen: 1 Handtuch für das Baby; bequeme, luftige K
 leidung für Erwachsenen; ev. Ersatzkleidung für Erwachsenen\n
X-ALT-DESC;FMTTYPE=text/html:<p>PEKiP® - Das Prager Eltern - Kind - Programm</p><p>Von Geburt an begegne
 n Babies uns als eigenständige Persönlichkeiten. Das Prager Eltern - Kind -
  Programm wendet sich an Eltern, die die ganzheitliche Entwicklung ihres Ki
 ndes im ersten Lebensjahr durch spielerische Anregungen bewußt unterstützen
  wollen.</p><p>Unsere PEKiP® - Gruppe ist ein Spiel- und Förderangebot für 
 Babies ab der 6. Lebenswoche mit ihrer erwachsenen Bezugsperson.</p><p>In e
 inem gut beheizten und sauberen Raum wollen wir uns bewußt Zeit für unser B
 aby nehmen, es in seiner momentanen Situation wahrnehmen, begleiten und zu 
 Bewegungen anregen. Das Baby ist während der Spielzeit nackt, damit es groß
 tmöglichste Bewegungsfreiheit hat.</p><p>Im Vordergrund stehen die Bedürnis
 se des Babies und die Vertiefung der Beziehung zwischen ihm und seiner Bezu
 gsperson.</p><p>Unter anderem hat das Baby die Möglichkeit mit anderen Babi
 es und deren Eltern Erfahrungen zu sammeln.</p><p>Auch die Erwachsenen habe
 n die Zeit, sich untereinander auszutauschen.</p><p>Bitte mitbringen: 1 Han
 dtuch für das Baby; bequeme, luftige Kleidung für Erwachsenen; ev. Ersatzkl
 eidung für Erwachsenen</p>
CONTACT:http://www.derkreativraum.at (http://www.derkreativraum.at)
X-EXTRAINFO:[preis='19800'][anmeldung='true']
DTSTAMP:20260423T182503
DTSTART:20190910T091500
DTEND:20190910T104500
SEQUENCE:0
TRANSP:OPAQUE
END:VEVENT
END:VCALENDAR