BEGIN:VCALENDAR
VERSION:2.0
PRODID:-//jEvents 2.0 for Joomla//EN
CALSCALE:GREGORIAN
METHOD:PUBLISH
BEGIN:VEVENT
UID:4bc61d303e13844f10c6fddcd70891b5
CATEGORIES:3. Bezirk
CREATED:19700101T010000
SUMMARY:DERKREATIVRAUM3- Babymassage
LOCATION:derkreativraum3
DESCRIPTION:FÜR SÄUGLINGE VON 0-6 MONATEN\nEinmal den stressigen Alltag hinter sich las
 sen -sich und dem Baby Entspannung gönnen- dazu soll dieser Kurs dienen!\nE
 inige der vielen Vorteile der Babymassage ist die Förderung der Eltern-Kind
 -Beziehung, das Geben von Wärme, Geborgenheit und Zuneigung, sowie die Förd
 erung des Selbstvertrauens und der Freude am Berühren und berührt werden.\n
 Im Kurs wird eine Form der traditionellen Indischen Babymassage (nach dem f
 ranzösischen Gynäkologen Frederick Leboyer) sowie auszugsweise Techniken de
 r Schmetterlingsmassage (nach der austro-amerikanischen Ärztin Eva Reich) e
 rlernt. Leboyers Augenmerk galt besonders dem empfindsamen, sensiblen Neuge
 borenen.\nDie Babymassage ist gekennzeichnet durch einfache rhythmische Gri
 ffe und wiederkehrende Berührungen, die leicht erlernbar sind.\n"Babymassag
 e ist ein Geschenk für alle Beteiligten"\n \nInhalt des Kurses:\nTechnik de
 r Babymassage\n•Umgang mit Aromaölen\n•Massage in speziellen Situationen z.
 B. bei Darmkoliken\n•Begleitung während des Kurses in allen Fragen "Rund um
  den Säugling"\nZiel:\nDas Ziel des Kurses ist es die Technik der Babymassa
 ge so zu beherrschen, dass Ihr über den Kurs hinaus Eure Babys selbständig 
 im Alltag massieren könnt.\nGruppengröße:\nMax. 5 TeilnehmerInnen mit Kind,
  auch eine weitere Begleitperson (weiterer Elternteil, Großelternteil, ...)
  ist herzlich willkommen.\nBitte für den Kurs mitbringen:\nEin längeres Han
 dtuch und bequeme Kleidung (es wird im Sitzen auf Gymnastikmatten massiert)
 .\nEin Massageöl muss nicht mitgenommen werden. Ihr bekommt, neben einem um
 fangreichen Skriptum, ein Probeöl (auf Sonnenblumen -Basis).\n
X-ALT-DESC;FMTTYPE=text/html:<p>FÜR SÄUGLINGE VON 0-6 MONATEN</p><p>Einmal den stressigen Alltag hinter 
 sich lassen -sich und dem Baby Entspannung gönnen- dazu soll dieser Kurs di
 enen!</p><p>Einige der vielen Vorteile der Babymassage ist die Förderung de
 r Eltern-Kind-Beziehung, das Geben von Wärme, Geborgenheit und Zuneigung, s
 owie die Förderung des Selbstvertrauens und der Freude am Berühren und berü
 hrt werden.</p><p>Im Kurs wird eine Form der traditionellen Indischen Babym
 assage (nach dem französischen Gynäkologen Frederick Leboyer) sowie auszugs
 weise Techniken der Schmetterlingsmassage (nach der austro-amerikanischen Ä
 rztin Eva Reich) erlernt. Leboyers Augenmerk galt besonders dem empfindsame
 n, sensiblen Neugeborenen.</p><p>Die Babymassage ist gekennzeichnet durch e
 infache rhythmische Griffe und wiederkehrende Berührungen, die leicht erler
 nbar sind.</p><p>"Babymassage ist ein Geschenk für alle Beteiligten"</p><p>
  </p><p>Inhalt des Kurses:</p><p>Technik der Babymassage<br />•Umgang mit A
 romaölen<br />•Massage in speziellen Situationen z.B. bei Darmkoliken<br />
 •Begleitung während des Kurses in allen Fragen "Rund um den Säugling"</p><p
 >Ziel:</p><p>Das Ziel des Kurses ist es die Technik der Babymassage so zu b
 eherrschen, dass Ihr über den Kurs hinaus Eure Babys selbständig im Alltag 
 massieren könnt.</p><p>Gruppengröße:</p><p>Max. 5 TeilnehmerInnen mit Kind,
  auch eine weitere Begleitperson (weiterer Elternteil, Großelternteil, ...)
  ist herzlich willkommen.</p><p>Bitte für den Kurs mitbringen:</p><p>Ein lä
 ngeres Handtuch und bequeme Kleidung (es wird im Sitzen auf Gymnastikmatten
  massiert).</p><p>Ein Massageöl muss nicht mitgenommen werden. Ihr bekommt,
  neben einem umfangreichen Skriptum, ein Probeöl (auf Sonnenblumen -Basis).
 </p>
CONTACT:www.derkreativraum.at
X-EXTRAINFO:[preis='8800'][anmeldung='true']
DTSTAMP:20260424T145602
DTSTART:20190914T083000
DTEND:20190914T092000
SEQUENCE:0
RRULE:FREQ=MONTHLY;COUNT=9999;INTERVAL=1;BYDAY=+1SA,+2SA,+3SA,+4SA,+5SA
EXDATE:20190907T083000
TRANSP:OPAQUE
END:VEVENT
END:VCALENDAR