BEGIN:VCALENDAR
VERSION:2.0
PRODID:-//jEvents 2.0 for Joomla//EN
CALSCALE:GREGORIAN
METHOD:PUBLISH
BEGIN:VEVENT
UID:c7dd7d55a82cfc7c99e1abdd9f577ef4
CATEGORIES:3. Bezirk
CREATED:20190701T120817
SUMMARY:DERKREATIVRAUM3- Musikgarten für Kinder von 6-12 Monaten
LOCATION:derkreativraum3
DESCRIPTION:<p>"Musikgarten -Gemeinsam musizieren" ist ein musikpädagisches Konzept, da
 s Kind ab dem Säuglingsalter und deren Eltern zum gemeinsamen Musizieren an
 regt. Durch musikalische Kinderspiele, Tänze und das gemeinsame Singen erfa
 hren die Kinder eine frühe musikalische Förderung. Einfache Instrumente wie
  Klanghölzer, Glöckchen, Rasseln oder Trommeln lassen sie selbst aktiv werd
 en.</p>
CONTACT:www.derkreativraum.at
X-EXTRAINFO:[preis='17600'][anmeldung='true']
DTSTAMP:20260424T143627
DTSTART:20190920T073000
DTEND:20190920T082000
SEQUENCE:0
TRANSP:OPAQUE
END:VEVENT
END:VCALENDAR