BEGIN:VCALENDAR
VERSION:2.0
PRODID:-//jEvents 2.0 for Joomla//EN
CALSCALE:GREGORIAN
METHOD:PUBLISH
BEGIN:VEVENT
UID:003c918e917169ed2b54a176e06f6cdb
CATEGORIES:14. Bezirk
CREATED:20190701T121220
SUMMARY:DERKREATIVRAUM14- PIKLER ENTDECKUNGSRAUM
LOCATION:derkreativraum14
DESCRIPTION:Der EntdeckungsRaum bietet eine Umgebung, die Kinder zum eigenständigen Erf
 orschen einlädt. Den Eltern schafft er einen Anlass, einfach nur da sein zu
  dürfen -im gegenwärtigen Augenblick, dem Kind die ganze Aufmerksamkeit zu 
 schenken.\nWie können Eltern und Kinder von Geburt an\nin eine respektvolle
  Beziehung hineinwachsen?\nWie können Sie ihr Baby dabei unterstützen\nin R
 uhe in der Welt anzukommen?\nWerden Sie zum einfühlsamen Beobachter.\nWann 
 und wie können Sie Ihrem Baby/Kleinkind\nungeteilte Aufmerksamkeit schenken
 ?\nIm Mittelpunkt stehen beobachten, verstehen, wertschätzen und zuschauen 
 lernen, das Vertrauen in die Kompetenz des Kindes sowie eine achtsame Haltu
 ng -ihrem Kind, aber auch sich selbst als Eltern gegenüber. Grundlage diese
 r Arbeit ist eine innere Haltung des Respekts vor der Individualität jedes 
 Einzelnen auf der Basis des Ansatzes von Magda Gerber und Emmi Pikler.\n
X-ALT-DESC;FMTTYPE=text/html:<p>Der EntdeckungsRaum bietet eine Umgebung, die Kinder zum eigenständigen 
 Erforschen einlädt. Den Eltern schafft er einen Anlass, einfach nur da sein
  zu dürfen -im gegenwärtigen Augenblick, dem Kind die ganze Aufmerksamkeit 
 zu schenken.</p><p>Wie können Eltern und Kinder von Geburt an</p><p>in eine
  respektvolle Beziehung hineinwachsen?</p><p>Wie können Sie ihr Baby dabei 
 unterstützen</p><p>in Ruhe in der Welt anzukommen?</p><p>Werden Sie zum ein
 fühlsamen Beobachter.</p><p>Wann und wie können Sie Ihrem Baby/Kleinkind</p
 ><p>ungeteilte Aufmerksamkeit schenken?</p><p>Im Mittelpunkt stehen beobach
 ten, verstehen, wertschätzen und zuschauen lernen, das Vertrauen in die Kom
 petenz des Kindes sowie eine achtsame Haltung -ihrem Kind, aber auch sich s
 elbst als Eltern gegenüber. Grundlage dieser Arbeit ist eine innere Haltung
  des Respekts vor der Individualität jedes Einzelnen auf der Basis des Ansa
 tzes von Magda Gerber und Emmi Pikler.</p>
CONTACT:0664/3935509
X-EXTRAINFO:[preis='23800'][anmeldung='true']
DTSTAMP:20260423T182441
DTSTART:20190910T113000
DTEND:20190910T124000
SEQUENCE:0
TRANSP:OPAQUE
END:VEVENT
END:VCALENDAR