BEGIN:VCALENDAR
VERSION:2.0
PRODID:-//jEvents 2.0 for Joomla//EN
CALSCALE:GREGORIAN
METHOD:PUBLISH
BEGIN:VEVENT
UID:972b22645199066bfefb7bed234bd663
CATEGORIES:14. Bezirk
CREATED:19700101T010000
SUMMARY:DERKREATIVRAUM14- Musikgarten für Babys
LOCATION:derkreativraum14
DESCRIPTION:"Musikgarten -Gemeinsam musizieren" ist ein musikpädagisches Konzept, das K
 ind ab dem Säuglingsalter und deren Eltern zum gemeinsamen Musizieren anreg
 t. Durch musikalische Kinderspiele, Tänze und das gemeinsame Singen erfahre
 n die Kinder eine frühe musikalische Förderung. Einfache Instrumente wie Kl
 anghölzer, Glöckchen, Rasseln oder Trommeln lassen sie selbst aktiv werden.
 \n
X-ALT-DESC;FMTTYPE=text/html:<p>"Musikgarten -Gemeinsam musizieren" ist ein musikpädagisches Konzept, da
 s Kind ab dem Säuglingsalter und deren Eltern zum gemeinsamen Musizieren an
 regt. Durch musikalische Kinderspiele, Tänze und das gemeinsame Singen erfa
 hren die Kinder eine frühe musikalische Förderung. Einfache Instrumente wie
  Klanghölzer, Glöckchen, Rasseln oder Trommeln lassen sie selbst aktiv werd
 en.</p>
CONTACT:www.derkreativraum.at
X-EXTRAINFO:[preis='17600'][anmeldung='true']
DTSTAMP:20260423T195056
DTSTART:20190912T073000
DTEND:20190912T082000
SEQUENCE:0
RRULE:FREQ=WEEKLY;COUNT=3;INTERVAL=1;BYDAY=TH,TH,TH,TH,TH
TRANSP:OPAQUE
END:VEVENT
END:VCALENDAR