BEGIN:VCALENDAR
VERSION:2.0
PRODID:-//jEvents 2.0 for Joomla//EN
CALSCALE:GREGORIAN
METHOD:PUBLISH
BEGIN:VEVENT
UID:2a6cbc9ad615770dfbfc8e83a24abb49
CATEGORIES:4. Bezirk
CREATED:20190701T153349
SUMMARY:BASISKURS PRANIC HEALING 13. - 14.7.
LOCATION:1040 Wien\, Rienößlgasse 3/2
DESCRIPTION:<p><strong>PRANIC HEALING® BASISKURS am 13. und 14. Juli von 09:00 - 17:00<
 /strong></p><p>Dieser 2- tägige Kurs ist für Mütter und Väter, die ihr eige
 nes Leben und das ihrer Kinder in ihre eigenen Hände nehmen möchten.</p><p>
 Es gibt die Möglichkeit an nur einem Wochenende zu lernen wie man sich selb
 st und seinen Kindern helfen kann glücklich, gesund und effizient zu sein, 
 wie man seine eigenen Energien nutzt und stärkt, auch nach einem anstrengen
 den Tag und wie man jede Therapie, Kur und Behandlung in ihrer Effizienz kr
 äftigen und die Behandlungszeit verkürzen kann.</p><p>Wir sprechen von PRAN
 IC HEALING®, einer berührungslosen, sicheren Energie-Heilmethode, die als E
 rgänzung zur klassischen Medizin oder Therapie angewendet wird.</p><p>PRANI
 C HEALING® ist eine sehr sanfte Heilmethode, die besonders von Kindern geli
 ebt und von Eltern geschätzt wird, weil sie auf schnelle Weise Schmerz auf 
 allen Ebenen lindern und Ängste und Sorgen neutralisieren kann - ohne jegli
 che Nebenwirkungen.</p><p>Weitere Informationen über PRANIC HEALING® finden
  Sie auf unserer internationalen Website:</p><p><a href="http://www.globalp
 ranichealing.com">www.globalpranichealing.com</a></p><p>oder unserer Webpag
 e für Österreich:</p><p><a href="https://pranic-healing-wien.webnode.com">h
 ttps://pranic-healing-wien.webnode.com</a></p><p>Anmeldung bitte bis spätes
 tens 5.7.2019 an</p><p><a href="mailto:patriziabrunelli@healthessence.co.uk
 ">patriziabrunelli@healthessence.co.uk</a></p><p> </p><p> </p><p> </p><p> <
 /p><p> </p>
CONTACT:Renate Mackay 0699 1600 6013
X-EXTRAINFO:[preis='25000'][anmeldung='true']
DTSTAMP:20260425T104335
DTSTART:20190713T070000
DTEND:20190713T150000
SEQUENCE:0
TRANSP:OPAQUE
END:VEVENT
END:VCALENDAR