BEGIN:VCALENDAR
VERSION:2.0
PRODID:-//jEvents 2.0 for Joomla//EN
CALSCALE:GREGORIAN
METHOD:PUBLISH
BEGIN:VEVENT
UID:5cc7b79642655d7ee468f03ead48cd7e
CATEGORIES:14. Bezirk
CREATED:20190701T145157
SUMMARY:DERKREATIVRAUM14- Eltern-Kind-Bewegungsgruppe
LOCATION:derkreativraum14
DESCRIPTION:Im Mittelpunkt des Kurses steht die ganzheitliche Entwicklung ihres Kindes 
 in den ersten beiden Lebensjahren, die durch spielerische Anregungen bewußt
  unterstützen wird.\nIm Vordergrund stehen die Bedürnisse des Kindes und di
 e Vertiefung der Beziehung zwischen ihm und seiner Bezugsperson.\nUnter and
 erem hat das Kind die Möglichkeit mit anderen Kindern und deren Eltern Erfa
 hrungen zu sammeln.\nAuch die Erwachsenen haben die Zeit, sich untereinande
 r auszutauschen.\n
X-ALT-DESC;FMTTYPE=text/html:<p>Im Mittelpunkt des Kurses steht die ganzheitliche Entwicklung ihres Kind
 es in den ersten beiden Lebensjahren, die durch spielerische Anregungen bew
 ußt unterstützen wird.</p><p>Im Vordergrund stehen die Bedürnisse des Kinde
 s und die Vertiefung der Beziehung zwischen ihm und seiner Bezugsperson.</p
 ><p>Unter anderem hat das Kind die Möglichkeit mit anderen Kindern und dere
 n Eltern Erfahrungen zu sammeln.</p><p>Auch die Erwachsenen haben die Zeit,
  sich untereinander auszutauschen.</p>
CONTACT:http://www.derkreativraum.at (http://www.derkreativraum.at)
X-EXTRAINFO:[preis='19800'][anmeldung='true']
DTSTAMP:20260423T182318
DTSTART:20190911T113000
DTEND:20190911T130000
SEQUENCE:0
TRANSP:OPAQUE
END:VEVENT
END:VCALENDAR