BEGIN:VCALENDAR
VERSION:2.0
PRODID:-//jEvents 2.0 for Joomla//EN
CALSCALE:GREGORIAN
METHOD:PUBLISH
BEGIN:VEVENT
UID:fb404af1760feab171213bf5ce083b26
CATEGORIES:3. Bezirk
CREATED:20190701T164826
SUMMARY:DERKREATIVRAUM3 -Klangzwerglein Baby
LOCATION:derkreativraum3
DESCRIPTION:<p style="margin-bottom: 0cm;">Musik begleitet uns Menschen von Anfang an. 
 Der Herzschlag der Mutter führt zur ersten Begegnung mit Musik und Rhythmus
 . Musikalische Früherziehung fördert die Entwicklung eines Kindes in vielen
  Facetten. Schon die Allerkleinsten können erste Erfahrungen mit Musik samm
 eln und in die Welt der Klänge eintauchen. Babys und Kleinkinder reagieren 
 besonders auf hohe Klänge von Instrumenten wie Fingerzimbeln, Glockenspiele
 n und Triangeln. Die Singstimme der Eltern zaubert einen besonderen Klangge
 nuss für die Kleinen. Durch die Stimme werden viele persönliche Gefühle für
  die Kinder erfahrbar gemacht.</p><p style="margin-bottom: 0cm;">Der Kurs s
 oll sowohl Kinder als auch Eltern anregen und ihr Interesse für Musik wecke
 n. Das Programm ist breit gefächert. Wir werden viele Klänge von Instrument
 en entdecken, singen, tanzen und lustige Kinderreime kennen lernen.</p>
CONTACT:http://www.derkreativraum.at (http://www.derkreativraum.at)
X-EXTRAINFO:[preis='17600'][anmeldung='true']
DTSTAMP:20260424T143458
DTSTART:20190917T073000
DTEND:20190917T082000
SEQUENCE:0
TRANSP:OPAQUE
END:VEVENT
END:VCALENDAR