BEGIN:VCALENDAR
VERSION:2.0
PRODID:-//jEvents 2.0 for Joomla//EN
CALSCALE:GREGORIAN
METHOD:PUBLISH
BEGIN:VEVENT
UID:dc428399467223d13c252f55bf46141f
CATEGORIES:3. Bezirk
CREATED:20190701T172540
SUMMARY:DERKREATIVRAUM3- Yoga für Eltern mit Kleinkind
LOCATION:derkreativraum3
DESCRIPTION:<div class="ydpfedaa875MsoNormal"><strong>für Mütter und Väter mit Kindern 
 zwischen ca. 1 und 3 Jahren</strong></div><div class="ydpfedaa875MsoNormal"
 > </div><div class="ydpfedaa875MsoNormal">Diese Yogaeineit ist vorwiegend f
 ür Erwachsene konzipiert, die Kinder können spielen.</div><div class="ydpfe
 daa875MsoNormal">Aus dem Babyalter entwachsen, entwickeln aber die Kleinkin
 der (1-3) auch  Interesse an der elterlichen Yogapraxis teilzunehmen. So in
 tegrieren wir auf kreativ-spielerische Weise adaptierte Yogaklassiker wie H
 und, Katze, Kobra und Co als Partner und Gruppenübung gemeinsam mit den Kid
 s.</div>
CONTACT:http://www.derkreativraum.at (http://www.derkreativraum.at)
X-EXTRAINFO:[preis='15300'][anmeldung='true']
DTSTAMP:20260424T150753
DTSTART:20190920T112000
DTEND:20190920T123500
SEQUENCE:0
TRANSP:OPAQUE
END:VEVENT
END:VCALENDAR