BEGIN:VCALENDAR
VERSION:2.0
PRODID:-//jEvents 2.0 for Joomla//EN
CALSCALE:GREGORIAN
METHOD:PUBLISH
BEGIN:VEVENT
UID:9db7736b14a7c68823c7a92764ee6e96
CATEGORIES:14. Bezirk
CREATED:20190701T172802
SUMMARY:DERKREATIVRAUM14- Yoga für Eltern mit Kleinkind
DESCRIPTION:für Mütter und Väter mit Kindern zwischen ca. 1 und 3 Jahren Diese Yogaeine
 it ist vorwiegend für Erwachsene konzipiert, die Kinder können spielen.Aus 
 dem Babyalter entwachsen, entwickeln aber die Kleinkinder (1-3) auch  Inter
 esse an der elterlichen Yogapraxis teilzunehmen. So integrieren wir auf kre
 ativ-spielerische Weise adaptierte Yogaklassiker wie Hund, Katze, Kobra und
  Co als Partner und Gruppenübung gemeinsam mit den Kids.
X-ALT-DESC;FMTTYPE=text/html:<div class="ydpfedaa875MsoNormal"><strong>für Mütter und Väter mit Kindern 
 zwischen ca. 1 und 3 Jahren</strong></div><div class="ydpfedaa875MsoNormal"
 > </div><div class="ydpfedaa875MsoNormal">Diese Yogaeineit ist vorwiegend f
 ür Erwachsene konzipiert, die Kinder können spielen.</div><div class="ydpfe
 daa875MsoNormal">Aus dem Babyalter entwachsen, entwickeln aber die Kleinkin
 der (1-3) auch  Interesse an der elterlichen Yogapraxis teilzunehmen. So in
 tegrieren wir auf kreativ-spielerische Weise adaptierte Yogaklassiker wie H
 und, Katze, Kobra und Co als Partner und Gruppenübung gemeinsam mit den Kid
 s.</div>
DTSTAMP:20260423T182303
DTSTART:20190912T112000
DTEND:20190912T123500
SEQUENCE:0
TRANSP:OPAQUE
END:VEVENT
END:VCALENDAR