BEGIN:VCALENDAR
VERSION:2.0
PRODID:-//jEvents 2.0 for Joomla//EN
CALSCALE:GREGORIAN
METHOD:PUBLISH
BEGIN:VEVENT
UID:aa1240a71acebef616c48615889e3aa5
CATEGORIES:6. Bezirk
CREATED:19700101T010000
SUMMARY:Eltern-Kind- Café mit Gebärdensprache
LOCATION:kinderhände Zentrum (1060\, Stumpergasse 48)
DESCRIPTION:Wir laden alle interessierte Eltern und Kinder in den kursfreien Monaten zu
  unseren Eltern-Kind Kultucafés (EKC) am Montag 8., 15. und 22. Juli 2019 e
 in.\nAn diesen Tagen steht das kinderhände zentrum für 1,5 Stunden als Tref
 fpunkt für euch und eure Kinder offen. Gemeinsam macht das Üben einfach vie
 l mehr Spaß! Für Fragen stehen auch zwei TrainerInnen (gehörlos + hörend) z
 ur Verfügung. Kommt vorbei und lernt mit den Händen zu sprechen!\nWeitere I
 nfos unter: http://kinderhaende.at/de/content/eltern-kind-cafe\n
X-ALT-DESC;FMTTYPE=text/html:<p>Wir laden alle interessierte Eltern und Kinder in den kursfreien Monaten
  zu unseren <strong>Eltern-Kind Kultucafés (EKC) </strong>am Montag 8., 15.
  und 22. Juli 2019 ein.</p><p>An diesen Tagen steht das <em>kinderhände</em
 > zentrum für 1,5 Stunden als Treffpunkt für euch und eure Kinder offen. <s
 trong>Gemeinsam macht das Üben einfach viel mehr Spaß</strong>! Für Fragen 
 stehen auch zwei TrainerInnen (gehörlos + hörend) zur Verfügung. Kommt vorb
 ei und lernt mit den Händen zu sprechen!</p><p>Weitere Infos unter: http://
 kinderhaende.at/de/content/eltern-kind-cafe</p>
CONTACT:info@kinderhaende.at
X-EXTRAINFO:[preis='500'][anmeldung='false']
DTSTAMP:20260424T195526
DTSTART:20190708T130000
DTEND:20190708T143000
SEQUENCE:0
RRULE:FREQ=WEEKLY;UNTIL=20190723T000000Z;INTERVAL=1;BYDAY=MO
TRANSP:OPAQUE
END:VEVENT
END:VCALENDAR