BEGIN:VCALENDAR
VERSION:2.0
PRODID:-//jEvents 2.0 for Joomla//EN
CALSCALE:GREGORIAN
METHOD:PUBLISH
BEGIN:VEVENT
UID:5fe8493e415d757cf53eeff53b83e0bb
CATEGORIES:7. Bezirk
CREATED:20190703T144819
SUMMARY:Sommerkurs “Sing together!”
LOCATION:Klaviergalerie\, Kaisertstraße 10\, 1070 Wien
DESCRIPTION:(English version see below)\n \nSpezial-Kurs\nSommerkurs “Sing together!”\n
 Ein spezielles Angebot für Familien, die englische oder japanische Lieder s
 ingen/lernen möchten.\nDieser Kurs ist für Kinder von 18 Monaten bis 6 Jahr
 en (Vorschulalter) mit Begleitperson geeignet.\n*Geschwisterkinder bis 18 M
 onate sind trotzdem herzlich willkommen. Das Baby kann auf Mamas Schoss die
  Musik und den Rhythmus genießen. \n \nTermine:\nSamstags, 20.07.2019 und 1
 7.08.2019 - jeweils von 10:00 - 10:50 Uhr (Gruppe - Englisch) \nSamstags, 2
 7.07.2019 und 10.08.2019 - jeweils von 10:00 - 10:50 Uhr (Gruppe - Japanisc
 h) \n \nOrt: KLAVIERgalerie - Kaiserstrasse 10, 1070 Wien\nPreis:\n1 Kind +
  1 Begleitperson - € 15,- / Einheit\n+ weitere Begleitperson - € 5,- / Einh
 eit\n+ weiteres Geschwisterkind - € 5,- / EInheit\n \nKinder freuen sich je
 des Mal aufs Neue, wenn sie mit ihrer Mama (oder auch ihrem Papa) singen kö
 nnen! In der Gruppe lernen wir verschiedene Arten von Liedern kennen - nich
 t nur Kinderlieder, sondern auch Lieder aus der klassischen Musik. (und in 
 der englischen Gruppe auch lustige, afrikanische Lieder)\nWir haben jede Me
 nge Liedmaterial, freuen uns aber natürlich auch über Ihre persönlichen Lie
 dvorschläge. In diesem Kurs wird nicht nur gesungen, sondern auch getanzt u
 nd über Musik gesprochen. Dies werden die ersten bewussten Musikerfahrungen
  Ihres Kindes, welche seine Kreativität fördern und die Beziehung zu Mama (
 und Papa) durch das gemeinsame musizieren stärken.\n \nFür weitere Infos (b
 zw. für die (Vor-)Anmeldung zu den Kursen) bitten wir um eine E-Mail an: of
 fice@mamamusik.com\n \nENGLISH VERSION: \n \nSpecial Course\nSummer course 
 "Sing together!" \nA special offer for families who want to sing/learn engl
 isch or japanese songs.\nSuitable for children starting from 18 months up t
 o 6 years of age with an accompanying parent.\n* Siblings younger than 18 m
 onths are of course welcome. The baby can enjoy the music and rhythm on his
  mother's lap.\n \nDates:\nSaturdays, 20.07.2019 and 17.08.2019 - from 10:0
 0 - 10:50 (Group - English)\nSaturdays, 27.07.2019 and 10.08.2019 - from 10
 :00 - 10:50 (Group - Japanese)\n \nLocation: KLAVIERgalerie - Kaiserstrasse
  10, 1070 Vienna\nRates:\n1 child + 1 accompanying parent - € 15,- / unit\n
 + additional accompanying parent - € 5,- / unit\n+ additional sibling - € 5
 ,- / unit\n \nChildren are always happy when they can sing with their mothe
 r (or their father)! In the group we learn to know different kinds of songs
  - not only children's songs, but also classical music. (And in our english
  group, fun african songs.)\nWe have a lot of song material, but we are als
 o happy for you to voice your personal song suggestions. In this course we 
 will not only sing, but also dance and talk about music. These will be some
  of the first conscious musical experiences of your child, which are meant 
 to foster creativity and strengthen the relationship to mother (and father)
  by experiencing music together.\n \nFor further information (or (pre-)regi
 stration to the courses) please send us an E-Mail to: office@mamamusik.com\
 n \n \n \n
X-ALT-DESC;FMTTYPE=text/html:<p><strong>(English version see below)</strong></p><p> </p><p><strong>Spezi
 al-Kurs</strong></p><p><strong>Sommerkurs </strong><strong>“</strong><stron
 g>Sing together!</strong><strong>”</strong></p><p>Ein spezielles Angebot fü
 r Familien, die englische oder japanische Lieder singen/lernen möchten.</p>
 <p>Dieser Kurs ist für Kinder von 18 Monaten bis 6 Jahren (Vorschulalter) m
 it Begleitperson geeignet.</p><p>*Geschwisterkinder bis 18 Monate sind trot
 zdem herzlich willkommen. Das Baby kann auf Mamas Schoss die Musik und den 
 Rhythmus genießen. </p><p> </p><p><strong>Termine:</strong></p><p><strong>S
 amstags, 20.07.2019 und 17.08.2019 - jeweils von 10:00 - 10:50 Uhr (Gruppe 
 - Englisch) </strong></p><p><strong>Samstags, 27.07.2019 und 10.08.2019 - j
 eweils von 10:00 - 10:50 Uhr (Gruppe - Japanisch) </strong></p><p> </p><p>O
 rt: KLAVIERgalerie - Kaiserstrasse 10, 1070 Wien</p><p>Preis:</p><p>1 Kind 
 + 1 Begleitperson - € 15,- / Einheit</p><p>+ weitere Begleitperson - € 5,- 
 / Einheit</p><p>+ weiteres Geschwisterkind - € 5,- / EInheit</p><p> </p><p>
 Kinder freuen sich jedes Mal aufs Neue, wenn sie mit ihrer Mama (oder auch 
 ihrem Papa) singen können! In der Gruppe lernen wir verschiedene Arten von 
 Liedern kennen - nicht nur Kinderlieder, sondern auch Lieder aus der klassi
 schen Musik. (und in der englischen Gruppe auch lustige, afrikanische Liede
 r)</p><p>Wir haben jede Menge Liedmaterial, freuen uns aber natürlich auch 
 über Ihre persönlichen Liedvorschläge. In diesem Kurs wird nicht nur gesung
 en, sondern auch getanzt und über Musik gesprochen. Dies werden die ersten 
 bewussten Musikerfahrungen Ihres Kindes, welche seine Kreativität fördern u
 nd die Beziehung zu Mama (und Papa) durch das gemeinsame musizieren stärken
 .</p><p> </p><p><strong>Für weitere Infos (bzw. für die (Vor-)Anmeldung zu 
 den Kursen) bitten wir um eine E-Mail an: office@mamamusik.com</strong></p>
 <p> </p><p><strong>ENGLISH VERSION: </strong></p><p> </p><p><strong>Special
  Course</strong></p><p><strong>Summer course "Sing together!" </strong></p>
 <p>A special offer for families who want to sing/learn englisch or japanese
  songs.</p><p>Suitable for children starting from 18 months up to 6 years o
 f age with an accompanying parent.</p><p>* Siblings younger than 18 months 
 are of course welcome. The baby can enjoy the music and rhythm on his mothe
 r's lap.</p><p> </p><p><strong>Dates:</strong></p><p><strong>Saturdays, 20.
 07.2019 and 17.08.2019 - from 10:00 - 10:50 (Group - English)</strong></p><
 p><strong>Saturdays, 27.07.2019 and 10.08.2019 - from 10:00 - 10:50 (Group 
 - Japanese)</strong></p><p> </p><p>Location: KLAVIERgalerie - Kaiserstrasse
  10, 1070 Vienna</p><p>Rates:</p><p>1 child + 1 accompanying parent - € 15,
 - / unit</p><p>+ additional accompanying parent - € 5,- / unit</p><p>+ addi
 tional sibling - € 5,- / unit</p><p> </p><p>Children are always happy when 
 they can sing with their mother (or their father)! In the group we learn to
  know different kinds of songs - not only children's songs, but also classi
 cal music. (And in our english group, fun african songs.)</p><p>We have a l
 ot of song material, but we are also happy for you to voice your personal s
 ong suggestions. In this course we will not only sing, but also dance and t
 alk about music. These will be some of the first conscious musical experien
 ces of your child, which are meant to foster creativity and strengthen the 
 relationship to mother (and father) by experiencing music together.</p><p> 
 </p><p>For further information (or (pre-)registration to the courses) pleas
 e send us an E-Mail to: office@mamamusik.com</p><p><em> </em></p><p><em> </
 em></p><p> </p>
CONTACT:office@mamamusik.com
X-EXTRAINFO:[preis='1500'][anmeldung='true']
DTSTAMP:20260425T135143
DTSTART:20190720T080000
DTEND:20190720T085000
SEQUENCE:0
TRANSP:OPAQUE
END:VEVENT
END:VCALENDAR