BEGIN:VCALENDAR
VERSION:2.0
PRODID:-//jEvents 2.0 for Joomla//EN
CALSCALE:GREGORIAN
METHOD:PUBLISH
BEGIN:VEVENT
UID:2940e19da84867d7c1dc60406b1bfe1a
CATEGORIES:9. Bezirk
CREATED:19700101T010000
SUMMARY:Schwangerschafts-Yoga sanft (Drop-In-Classes ohne Anmeldung!)
LOCATION:FREIRAUM-Institut\, Liechtensteinstr. 10A\, 1090 Wien (U2 Schottentor)
DESCRIPTION:Schwangerschafts-Yoga sanft (in Drop-In-Classes ohne Anmeldung)\nDrop-In-Cl
 asses ohne Anmeldung: 90 Minuten Yoga für Dich und Dein Baby im Bauch, wund
 ervoll entspannend und eine effektive Geburtsvorbereitung sowie zur persönl
 ichen, mentalen Stärkung für die Geburt.\nYoga-Matten stellen wir kostenlos
  zur Verfügung.\nSonnentor-Bio-Tee wartet vor und nach allen unseren Drop-I
 n-Classes am FREIRAUM-Empfang auf Dich!\n \nNach der Geburt (postnatal) bie
 ten wir ebenso in Form von Drop-In-Classes ohne Anmeldung:\nMama-Baby-Yoga 
 1 für Babys die noch nicht krabbeln können,\nMama-Baby-Yoga 2 für Krabbel-B
 abys bis sie gehen können!\nWeiterführend bieten wir nach dem Mama-Baby-Yog
 a die Mama-Kleinkind-Yoga-Kurse mit Anmeldung für Kinder im Alter von 1-3 J
 ahren.\n \nStundenplan: Online hier zu finden! (https://www.freiraum-instit
 ut.at/stundenplan/)\nÖffnungszeiten (https://www.freiraum-institut.at/oeffn
 ungszeiten/): 20-30 Minuten vor Beginn einer Drop-In-Class und bis 30 Minut
 en nach Ende der Drop-In-Class!\nMittagspause im FREIRAUM-Institut: Mo-Fr v
 on 12:00-13:30 Uhr\nHäufig gestellte Fragen / FAQ: werden hier beantwortet 
 (https://www.freiraum-institut.at/fragen-antworten/)\nEinzelne Drop-In-Clas
 ses gibt's bei uns um € 17,- inkl. 20% USt.\nEin ermäßigtes 10er-Päckchen F
 REIRAUM-Yoga-Münzen gibt's unter anderem für Mamas in Mutterschutz (oder au
 ch für Papas) in Karenz bzw. Babypause um € 145,- inkl. 20% USt.\n...unsere
  FREIRAUM-Yoga-Münzen sind zeitlich unlimitiert nutzbar, können weitergesch
 enkt oder weiterverkauft werden, sind übertragbar und können in ALLEN Drop-
 In-Classes vom FREIRAUM-Institut flexibel genutzt werden:\neine FREIRAUM-Yo
 ga-Münze ermöglicht die Teilnahme an einer beliebigen Drop-In-Class. Siehe 
 Preisgestaltung (https://www.freiraum-institut.at/preisgestaltung/)!\n \n \
 n
X-ALT-DESC;FMTTYPE=text/html:<p><strong>Schwangerschafts-Yoga sanft</strong> (in Drop-In-Classes ohne An
 meldung)</p><p><b>Drop-In-Classes ohne Anmeldung:</b> 90 Minuten Yoga für D
 ich und Dein Baby im Bauch, wundervoll entspannend und eine effektive Gebur
 tsvorbereitung sowie zur persönlichen, mentalen Stärkung für die Geburt.</p
 ><p><b>Yoga-Matten </b>stellen wir kostenlos zur Verfügung.</p><p><b>Sonnen
 tor</b>-Bio-Tee wartet vor und nach allen unseren Drop-In-Classes am FREIRA
 UM-Empfang auf Dich!</p><p> </p><p>Nach der Geburt (postnatal) bieten wir e
 benso in Form von Drop-In-Classes ohne Anmeldung:</p><p><b>Mama-Baby-Yoga 1
 </b> für Babys die noch nicht krabbeln können,</p><p><b>Mama-Baby-Yoga 2</b
 > für Krabbel-Babys bis sie gehen können!</p><p>Weiterführend bieten wir na
 ch dem Mama-Baby-Yoga die <b>Mama-Kleinkind-Yoga-Kurse</b> mit Anmeldung fü
 r Kinder im Alter von 1-3 Jahren.</p><p> </p><p><b>Stundenplan:</b> <a href
 ="https://www.freiraum-institut.at/stundenplan/">Online hier zu finden!</a>
 </p><p><a href="https://www.freiraum-institut.at/oeffnungszeiten/">Öffnungs
 zeiten</a>: 20-30 Minuten vor Beginn einer Drop-In-Class und bis 30 Minuten
  nach Ende der Drop-In-Class!</p><p><b>Mittagspause</b> im FREIRAUM-Institu
 t: Mo-Fr von 12:00-13:30 Uhr</p><p>Häufig gestellte Fragen / FAQ: <a href="
 https://www.freiraum-institut.at/fragen-antworten/">werden hier beantwortet
 </a></p><p><b>Einzelne Drop-In-Classes</b> gibt's bei uns um € 17,- inkl. 2
 0% USt.</p><p>Ein <b>ermäßigtes 10er-Päckchen FREIRAUM-Yoga-Münzen</b> gibt
 's unter anderem für Mamas in Mutterschutz (oder auch für Papas) in Karenz 
 bzw. Babypause um € 145,- inkl. 20% USt.</p><p>...unsere FREIRAUM-Yoga-Münz
 en sind zeitlich unlimitiert nutzbar, können weitergeschenkt oder weiterver
 kauft werden, sind übertragbar und können in ALLEN Drop-In-Classes vom FREI
 RAUM-Institut flexibel genutzt werden:</p><p>eine FREIRAUM-Yoga-Münze ermög
 licht die Teilnahme an einer beliebigen Drop-In-Class. <a href="https://www
 .freiraum-institut.at/preisgestaltung/">Siehe Preisgestaltung</a>!</p><p> <
 /p><p> </p>
CONTACT:http://www.schwangerschaftsyoga.wien
DTSTAMP:20260423T144112
DTSTART:20190708T110000
DTEND:20190708T123000
SEQUENCE:0
RRULE:FREQ=WEEKLY;UNTIL=20200630T000000Z;INTERVAL=1;BYDAY=MO,MO,MO,MO,MO
TRANSP:OPAQUE
END:VEVENT
END:VCALENDAR