BEGIN:VCALENDAR
VERSION:2.0
PRODID:-//jEvents 2.0 for Joomla//EN
CALSCALE:GREGORIAN
METHOD:PUBLISH
BEGIN:VEVENT
UID:65b392530575bf79228317eeca25de26
CATEGORIES:18. Bezirk
CREATED:19700101T010000
SUMMARY:Babyplausch
LOCATION:SPIELRINGEL Mollgasse 11-13
DESCRIPTION:<p>Als Mama hat man oft das Bedürfnis sich mit anderen Mamas auszutauschen,
  das könnt ihr ganz ungezwungen Freitag vormittags im Spielringel bei Tee u
 nd Kuchen. Für die Babys gibt es allerlei zu entdecken!</p><p><span class="
 text-primary">Kosten:</span><br /> 10,- Euro pro Erwachsenem</p><p><span cl
 ass="text-primary">Info &amp; Anmeldung:</span><br /> ohne Anmeldung - komm
  einfach vorbei!</p>
CONTACT:http://schwangerschaft-elternschaft.at/angebote/spiel-spass-musik/babyplausch/
X-EXTRAINFO:[preis='1000'][anmeldung='false']
DTSTAMP:20260425T153222
DTSTART:20190913T080000
DTEND:20190913T100000
SEQUENCE:0
RRULE:FREQ=WEEKLY;UNTIL=20191026T000000Z;INTERVAL=1;BYDAY=FR
EXDATE:20190920T080000,20190927T080000
TRANSP:OPAQUE
END:VEVENT
END:VCALENDAR