BEGIN:VCALENDAR
VERSION:2.0
PRODID:-//jEvents 2.0 for Joomla//EN
CALSCALE:GREGORIAN
METHOD:PUBLISH
BEGIN:VEVENT
UID:bac578c5367e08567f63b4a3d7244dea
CATEGORIES:18. Bezirk
CREATED:19700101T010000
SUMMARY:Sinnesspielgruppe für Kleinstkinder 
LOCATION:SPIELRINGEL Mollgasse 11-13
DESCRIPTION:<p>In unserer Sinnesspielgruppe entdecken die Kinder spielend viel Neues un
 d lernen dabei auch noch neue Freunde kennen. Die Sinne der Kinder werden m
 it Hilfe verschiedener Materialien spielerisch angeregt, es wird experiment
 iert und auch gebastelt - dabei sollen sie möglichst viel selbst ausprobier
 en. Achtsamkeit, Wahrnehmungsförderung und Sinnesschulung stehen im Vorderg
 rund! Kreisspiele, Kniereiter und Fingerreime gehören genauso dazu, wie der
  Austausch mit anderen Eltern.</p><p>Genießt die Zeit beim gemeinsamen Spie
 len und Entdecken mit euren Kindern!</p><p>Bitte Kleidung anziehen, die auc
 h schmutzig werden darf!</p><p>Kurs 1: Donnerstag 9:30-10:30</p><p><span cl
 ass="text-primary">Termine:</span> 12.9., 19.9., 26.9., 3.10., 10.10.</p><p
 >€ 75 (5 Wochen-Kurs)</p><p><span class="text-primary">Info &amp; Anmeldung
 :</span><br /><a href="mailto:kontakt@schwangerschaft-elternschaft.at">offi
 ce@spielringel.at</a></p>
CONTACT:http://schwangerschaft-elternschaft.at/angebote/spiel-spass-musik/sinnesspielgruppe-fuer-kleinstkinder/
X-EXTRAINFO:[preis='7500'][anmeldung='true']
DTSTAMP:20260425T154109
DTSTART:20190912T073000
DTEND:20190912T083000
SEQUENCE:0
RRULE:FREQ=WEEKLY;UNTIL=20191011T000000Z;INTERVAL=1;BYDAY=TH
TRANSP:OPAQUE
END:VEVENT
END:VCALENDAR