BEGIN:VCALENDAR
VERSION:2.0
PRODID:-//jEvents 2.0 for Joomla//EN
CALSCALE:GREGORIAN
METHOD:PUBLISH
BEGIN:VEVENT
UID:e18a5ca3403f5abfbd7bde848944cac1
CATEGORIES:14. Bezirk
CREATED:19700101T010000
SUMMARY:mamaFIT mit Natascha - Stadt des Kindes 
LOCATION:Hofjägerstraße 6\, 1140 Wien
DESCRIPTION:Bei mamaFIT mit Natascha erwartet dich ein rückbildungsorientiertes Ganzkör
 per-Kraft-Workout, dass ganzjährig Ourdoor stattfindet. Kinder können entwe
 der im Kinderwagen, in der Trage, noch im Bauch oder auch zu Fuß/am Roller/
 Rad/etc dabei sein. \nTreffpunkt vorm Spielplatz neben der Stadt des Kindes
 .\nBitte bringe eine Trinkflasche und dem Wetter entsprechende Kleidung mit
 . \nKurzfristige Änderungen werden per WhatsApp und Instagram (mamafit_mit_
 natascha (https://www.instagram.com/mamafit_mit_natascha/)) kommuniziert.\n
  \nKosten:\n10er Block - 110€\n5er Block - 60€\nEinzelstunde - 14€\n-&gt; K
 urskarten sind 1 Jahr gültig und übertragbar!\n
X-ALT-DESC;FMTTYPE=text/html:<p>Bei <strong>mamaFIT mit Natascha</strong> erwartet dich ein rückbildungs
 orientiertes Ganzkörper-Kraft-Workout, dass ganzjährig Ourdoor stattfindet.
  Kinder können entweder im Kinderwagen, in der Trage, noch im Bauch oder au
 ch zu Fuß/am Roller/Rad/etc dabei sein. </p><p>Treffpunkt vorm Spielplatz n
 eben der Stadt des Kindes.</p><p>Bitte bringe eine Trinkflasche und dem Wet
 ter entsprechende Kleidung mit. </p><p>Kurzfristige Änderungen werden per W
 hatsApp und Instagram (<a href="https://www.instagram.com/mamafit_mit_natas
 cha/">mamafit_mit_natascha</a>) kommuniziert.</p><p> </p><p><strong>Kosten<
 /strong>:</p><p>10er Block - 110€</p><p>5er Block - 60€</p><p>Einzelstunde 
 - 14€</p><p>-&gt; Kurskarten sind 1 Jahr gültig und übertragbar!</p>
CONTACT:https://mamafit.at/trainer/natascha-wondrusch/
X-EXTRAINFO:[preis='1400'][anmeldung='false']
DTSTAMP:20260423T200728
DTSTART:20190719T080000
DTEND:20190719T090000
SEQUENCE:0
RRULE:FREQ=WEEKLY;UNTIL=20190720T000000Z;INTERVAL=1;BYDAY=FR
TRANSP:OPAQUE
END:VEVENT
END:VCALENDAR