BEGIN:VCALENDAR
VERSION:2.0
PRODID:-//jEvents 2.0 for Joomla//EN
CALSCALE:GREGORIAN
METHOD:PUBLISH
BEGIN:VEVENT
UID:e3a35828d7a6b0324500f3e5fe924728
CATEGORIES:14. Bezirk
CREATED:19700101T010000
SUMMARY:Yoga für Schwangere
LOCATION:VHS Penzing\, Hütteldorfer Straße 112\, 1140 Wien
DESCRIPTION:Dieser Kurs bietet werdenden Müttern die Möglichkeit, sich mit Körperhaltun
 gen aus dem Hatha Yoga auf die Anforderungen der bevorstehenden Geburt einz
 ustimmen. Die Verbindung von Bewegung und Atmung löst sanft Verspannungen i
 m Bewegungsapparat und macht Atemräume spürbar. Die Teilnahme ist nach dem 
 dritten Monat bis zur Geburt möglich. 7 Termine für insgesamt 45,50 Euro.\n
X-ALT-DESC;FMTTYPE=text/html:<p>Dieser Kurs bietet werdenden Müttern die Möglichkeit, sich mit Körperhal
 tungen aus dem Hatha Yoga auf die Anforderungen der bevorstehenden Geburt e
 inzustimmen. Die Verbindung von Bewegung und Atmung löst sanft Verspannunge
 n im Bewegungsapparat und macht Atemräume spürbar. Die Teilnahme ist nach d
 em dritten Monat bis zur Geburt möglich. 7 Termine für insgesamt 45,50 Euro
 .</p>
CONTACT:penzing@vhs.at, 01 89 174 114 000
X-EXTRAINFO:[preis='4550'][anmeldung='true']
DTSTAMP:20260423T212026
DTSTART:20190925T070000
DTEND:20190925T080000
SEQUENCE:0
RRULE:FREQ=WEEKLY;UNTIL=20191107T000000Z;INTERVAL=1;BYDAY=WE
TRANSP:OPAQUE
END:VEVENT
END:VCALENDAR