BEGIN:VCALENDAR
VERSION:2.0
PRODID:-//jEvents 2.0 for Joomla//EN
CALSCALE:GREGORIAN
METHOD:PUBLISH
BEGIN:VEVENT
UID:224668724de43204930b4f0b89a4d004
CATEGORIES:14. Bezirk
CREATED:19700101T010000
SUMMARY:Yogalates mit dem Baby (12x)
LOCATION:VHS Penzing\, Hütteldorfer Straße 112\, 1140 Wien
DESCRIPTION:Yogalates vereint Prinzipien aus dem fernöstlichen Yoga und dem europäische
 n Pilates, Übungen aus beiden Konzepten werden zu einem wirkungsvollen Trai
 ning verbunden. Mit Yoga arbeiten wir an der Atmung und Geschmeidigkeit, Pi
 lates gibt Kraft und strafft den Körper. Ziel sind ein kraftvoller und bewe
 glicher Körper, eine gute Haltung, Balance und Gelassenheit. 12 Termine zu 
 insgesamt 78,- Euro.\n
X-ALT-DESC;FMTTYPE=text/html:<p>Yogalates vereint Prinzipien aus dem fernöstlichen Yoga und dem europäis
 chen Pilates, Übungen aus beiden Konzepten werden zu einem wirkungsvollen T
 raining verbunden. Mit Yoga arbeiten wir an der Atmung und Geschmeidigkeit,
  Pilates gibt Kraft und strafft den Körper. Ziel sind ein kraftvoller und b
 eweglicher Körper, eine gute Haltung, Balance und Gelassenheit. <strong>12 
 Termine zu insgesamt 78,- Euro.</strong></p>
CONTACT:penzing@vhs.at, 01 89 174 114 000
X-EXTRAINFO:[preis='7800'][anmeldung='true']
DTSTAMP:20260423T211412
DTSTART:20191003T090000
DTEND:20191003T100000
SEQUENCE:0
RRULE:FREQ=WEEKLY;UNTIL=20191220T000000Z;INTERVAL=1;BYDAY=TH
TRANSP:OPAQUE
END:VEVENT
END:VCALENDAR