BEGIN:VCALENDAR
VERSION:2.0
PRODID:-//jEvents 2.0 for Joomla//EN
CALSCALE:GREGORIAN
METHOD:PUBLISH
BEGIN:VEVENT
UID:1eb092d30d952259a0afb08b38dfe639
CATEGORIES:14. Bezirk
CREATED:19700101T010000
SUMMARY:Aquafitness mit dem Baby (3-12 Mon.) (7x)
LOCATION:Holmes Place\, Hütteldorfer Straße 130a\, 1140 Wien
DESCRIPTION:<p>Diese besonders schonende Bewegungsform wird im brusthohen Wasser ausgef
 ührt und ermöglicht ein sanftes Training des ganzen Körpers. Gemeinsam schw
 eben Mama und Baby durchs Wasser, dessen hydrostatischer Druck den positive
 n Trainingseffekt verstärkt. Die Massagewirkung regt die Durchblutung von M
 uskeln, Haut und Bindegewebe an, alle Sinne werden angeregt und die Mama-Ba
 by-Bindung wird gestärkt. Am Ende der Stunde sind Sie und Ihr Baby angenehm
  entspannt.<br />Der Eintritt ins Bad ist im Kurspreis inkludiert. Wasserte
 mperatur 28 Grad. <strong>7 Termine für insgesamt 50,50 Euro.</strong></p>
CONTACT:penzing@vhs.at, 01 89 174 114 000
X-EXTRAINFO:[preis='5050'][anmeldung='true']
DTSTAMP:20260423T195219
DTSTART:20190927T110000
DTEND:20190927T120000
SEQUENCE:0
RRULE:FREQ=WEEKLY;UNTIL=20191116T000000Z;INTERVAL=1;BYDAY=FR
TRANSP:OPAQUE
END:VEVENT
END:VCALENDAR