BEGIN:VCALENDAR
VERSION:2.0
PRODID:-//jEvents 2.0 for Joomla//EN
CALSCALE:GREGORIAN
METHOD:PUBLISH
BEGIN:VEVENT
UID:a89de4c104ec143fe24e4c7592de9d7d
CATEGORIES:14. Bezirk
CREATED:19700101T010000
SUMMARY:Babymassage (6 Wochen bis 9 Monate)
LOCATION:VHS Penzing\, Hütteldorfer Straße 112\, 1140 Wien
DESCRIPTION:Berührung schafft Nähe, Vertrauen und wohltuende Entspannung, die Eltern-Ki
 nd-Bindung wird gestärkt und unterstützt einen guten Start ins Leben. Babym
 assage fördert die physische, psychische, emotionale und soziale Entwicklun
 g des Babys. In entspannter Atmosphäre erhalten Sie einen Überblick über di
 e geeigneten Massagetechniken (und die zu verwendenden Öle) und erlernen di
 e Babymassage, um Beschwerden wie Koliken, Blähungen, Schlafprobleme u.a. z
 u lindern. 4 Termine für insgesamt 26,- Euro.\n
X-ALT-DESC;FMTTYPE=text/html:<p>Berührung schafft Nähe, Vertrauen und wohltuende Entspannung, die Eltern
 -Kind-Bindung wird gestärkt und unterstützt einen guten Start ins Leben. Ba
 bymassage fördert die physische, psychische, emotionale und soziale Entwick
 lung des Babys. In entspannter Atmosphäre erhalten Sie einen Überblick über
  die geeigneten Massagetechniken (und die zu verwendenden Öle) und erlernen
  die Babymassage, um Beschwerden wie Koliken, Blähungen, Schlafprobleme u.a
 . zu lindern. <strong>4 Termine für insgesamt 26,- Euro.</strong></p>
CONTACT:penzing@vhs.at, 01 89 174 114 000
X-EXTRAINFO:[preis='2600'][anmeldung='true']
DTSTAMP:20260423T211414
DTSTART:20191017T073000
DTEND:20191017T083000
SEQUENCE:0
RRULE:FREQ=WEEKLY;UNTIL=20191108T000000Z;INTERVAL=1;BYDAY=TH
TRANSP:OPAQUE
END:VEVENT
END:VCALENDAR