BEGIN:VCALENDAR
VERSION:2.0
PRODID:-//jEvents 2.0 for Joomla//EN
CALSCALE:GREGORIAN
METHOD:PUBLISH
BEGIN:VEVENT
UID:88fa5efb3aff6a05535f658040695577
CATEGORIES:14. Bezirk
CREATED:19700101T010000
SUMMARY:Eltern-Kind-Tanzwerkstatt (3-5 jahre) (12x)
LOCATION:VHS Penzing\, Hütteldorfer Straße 112\, 1140 Wien
DESCRIPTION:Eine bunte Mischung aus Kreistänzen, Tanz - und anderen Bewegungsspielen bi
 etet Kindern und Eltern die Gelegenheit, gemeinsam neue Bewegungsmöglichkei
 ten zu entdecken und auszuprobieren. Koordination und Rhythmusgefühl werden
  gefördert, während Groß und Klein gemeinsam die Freude am Bewegen und an d
 er Musik genießen. 12 Termine für insgesamt 78,00 Euro.\n
X-ALT-DESC;FMTTYPE=text/html:<p>Eine bunte Mischung aus Kreistänzen, Tanz - und anderen Bewegungsspielen
  bietet Kindern und Eltern die Gelegenheit, gemeinsam neue Bewegungsmöglich
 keiten zu entdecken und auszuprobieren. Koordination und Rhythmusgefühl wer
 den gefördert, während Groß und Klein gemeinsam die Freude am Bewegen und a
 n der Musik genießen. <strong>12 Termine für insgesamt 78,00 Euro.</strong>
 </p>
CONTACT:penzing@vhs.at, 01 89 174 114 000
X-EXTRAINFO:[preis='7800'][anmeldung='true']
DTSTAMP:20260423T141444
DTSTART:20190930T140000
DTEND:20190930T150000
SEQUENCE:0
RRULE:FREQ=WEEKLY;UNTIL=20191217T000000Z;INTERVAL=1;BYDAY=MO
TRANSP:OPAQUE
END:VEVENT
END:VCALENDAR