BEGIN:VCALENDAR
VERSION:2.0
PRODID:-//jEvents 2.0 for Joomla//EN
CALSCALE:GREGORIAN
METHOD:PUBLISH
BEGIN:VEVENT
UID:fd35c458102e8d2fcf394cb0b388a9a3
CATEGORIES:19. Bezirk
CREATED:20190717T000240
SUMMARY:Erste Hilfe Kurs - BABYandYOU 
LOCATION:1190\, Sollingergasse 25/8 Babypoint19
DESCRIPTION:\nErste Hilfe Kurs\nWas kann ich tun wenn sich mein Kind verschluckt?\nWie 
 verhalte ich mich im Notfall richtig?\n \nIm Erste Hilfe Kurs geht es vor a
 llem darum, Ängste abzubauen und die Sicherheit zu gewinnen, im Ernstfall r
 ichtig reagieren zu können. Dazu wiederholen wir gemeinsam die Grundlagen d
 er Reanimation nach den aktuellen ERC-Guidelines und zeigen genau, worauf e
 s wichtig ist beim Säugling und Kleinkind zu achten.\nAußerdem besprechen w
 ir die häufigsten Erkrankungen und Notfälle im Säuglings und Kleinkindalter
  und geben praktische Tipps für die Erstmaßnahmen sowie zur Unfallverhütung
 .\nNatürlich gibt es auch die Möglichkeit, das Gelernte an einer Puppe zu ü
 ben.\nKinder dürfen zum Kurs mitgebracht werden!\n \nKursdauer: 2 Stunden\n
 Kosten: € 40,- pro Person inklusive umfangreicher Unterlagen\nVortragende: 
 Dr. Agnes Beer und Natalie Groiss, IBCLC\nOrt: Babypoint19, Sollingergasse 
 25/8, 1190 Wien\n\n \nInformationen und Anmeldungen:\nE-Mail: agnes.beer@gm
 x.at (mailto:agnes.beer@gmx.at)\n+43 650 430 52 56\noder unter www.babyandy
 ou.at (http://www.babyandyou.at)\n
X-ALT-DESC;FMTTYPE=text/html:<p style="text-align: center;"></p><h1 class="font_0" style="font-size: 35p
 x; text-align: center;"><span class="color_20"><span style="text-shadow: 0p
 x 4px 5px rgba(0, 0, 0, 0.4);"><span style="font-size: 35px;"><span style="
 font-family: cinzel,serif;">Erste Hilfe Kurs<br /></span></span></span></sp
 an></h1><p class="font_6" style="font-size: 24px; text-align: center;"><spa
 n class="color_20"><span style="text-shadow: 0px 4px 5px rgba(0, 0, 0, 0.4)
 ;"><span style="font-size: 24px;"><span style="font-family: cinzel,serif;">
 <span style="font-weight: normal;">Was kann ich tun wenn sich mein Kind ver
 schluckt?</span></span></span></span></span></p><p class="font_6" style="fo
 nt-size: 24px; text-align: center;"><span class="color_20"><span style="tex
 t-shadow: 0px 4px 5px rgba(0, 0, 0, 0.4);"><span style="font-size: 24px;"><
 span style="font-family: cinzel,serif;"><span style="font-weight: normal;">
 Wie verhalte ich mich im Notfall richtig?</span></span></span></span></span
 ></p><p class="font_6" style="font-size: 24px; text-align: center;"> </p><p
  class="font_7" style="font-size: 18px;"><span class="color_20"><span style
 ="font-size: 18px;"><span style="font-family: futura-lt-w01-light,sans-seri
 f;">Im Erste Hilfe Kurs geht es vor allem darum, <span style="font-weight: 
 bold;">Ängste abzubauen </span>und die <span style="font-weight: bold;">Sic
 herheit </span>zu <span style="font-weight: bold;">gewinnen</span>, im Erns
 tfall richtig reagieren zu können. Dazu wiederholen wir gemeinsam die <span
  style="font-weight: bold;">Grundlagen der Reanimation </span>nach den aktu
 ellen ERC-Guidelines und zeigen genau, worauf es wichtig ist beim Säugling 
 und Kleinkind zu achten.</span></span></span></p><p class="font_7" style="f
 ont-size: 18px;"><span class="color_20"><span style="font-size: 18px;"><spa
 n style="font-family: futura-lt-w01-light,sans-serif;">Außerdem besprechen 
 wir die <span style="font-weight: bold;">häufigsten Erkrankungen und Notfäl
 le </span>im Säuglings und Kleinkindalter und geben praktische Tipps für di
 e Erstmaßnahmen sowie zur Unfallverhütung.</span></span></span></p><p class
 ="font_7" style="font-size: 18px;"><span class="color_20"><span style="font
 -size: 18px;"><span style="font-family: futura-lt-w01-light,sans-serif;">Na
 türlich gibt es auch die Möglichkeit, das Gelernte an einer Puppe zu üben.<
 /span></span></span></p><p class="font_7" style="font-size: 18px;"><span cl
 ass="color_20"><span style="font-size: 18px;"><span style="font-family: fut
 ura-lt-w01-light,sans-serif;">Kinder dürfen zum Kurs mitgebracht werden!</s
 pan></span></span></p><p class="font_7" style="font-size: 18px;"><span clas
 s="color_20"><span style="font-size: 18px;"><span style="font-family: futur
 a-lt-w01-light,sans-serif;"><span class="wixGuard"> </span></span></span></
 span></p><p class="font_7" style="font-size: 18px;"><span class="color_20">
 <span style="font-size: 18px;"><span style="font-family: futura-lt-w01-ligh
 t,sans-serif;"><span style="font-weight: bold;">Kursdauer</span>: 2 Stunden
 </span></span></span></p><p class="font_7" style="font-size: 18px;"><span c
 lass="color_20"><span style="font-size: 18px;"><span style="font-family: fu
 tura-lt-w01-light,sans-serif;"><span style="font-weight: bold;">Kosten</spa
 n>: € 40,- pro Person inklusive umfangreicher Unterlagen</span></span></spa
 n></p><p class="font_7" style="font-size: 18px;"><span class="color_20"><sp
 an style="font-size: 18px;"><span style="font-family: futura-lt-w01-light,s
 ans-serif;"><span style="font-weight: bold;">Vortragende</span>: Dr. Agnes 
 Beer und Natalie Groiss, IBCLC</span></span></span></p><p class="font_7" st
 yle="font-size: 18px;"><span class="color_20"><span style="font-size: 18px;
 "><span style="font-family: futura-lt-w01-light,sans-serif;"><span style="f
 ont-weight: bold;">Ort</span>: Babypoint19<span style="font-weight: bold;">
 , </span>Sollingergasse 25/8, 1190 Wien<br /></span></span></span></p><p cl
 ass="font_7" style="font-size: 18px;"> </p><p class="font_7" style="font-si
 ze: 18px;"><span style="font-size: 18px;"><strong><span class="color_20"><s
 pan style="font-family: futura-lt-w01-light,sans-serif;"><span style="color
 : #594a49;">Informationen und Anmeldungen:</span></span></span></strong></s
 pan></p><p class="font_7" style="font-size: 18px;"><span class="color_20"><
 span style="font-size: 18px;"><span style="font-family: futura-lt-w01-light
 ,sans-serif;"><span style="color: #594a49;">E-Mail: <a href="mailto:agnes.b
 eer@gmx.at">agnes.beer@gmx.at</a></span></span></span></span></p><p class="
 font_7" style="font-size: 18px;"><span class="color_20"><span style="font-s
 ize: 18px;"><span style="font-family: futura-lt-w01-light,sans-serif;"><spa
 n style="color: #594a49;">+43 650 430 52 56</span></span></span></span></p>
 <p class="font_7" style="font-size: 18px;"><span class="color_20"><span sty
 le="font-size: 18px;"><span style="font-family: futura-lt-w01-light,sans-se
 rif;"><span style="color: #594a49;">oder unter <a href="http://www.babyandy
 ou.at" target="_blank" rel="noopener noreferrer">www.babyandyou.at</a></spa
 n></span></span></span></p>
CONTACT:https://www.babyandyou.at/
X-EXTRAINFO:[preis='4000'][anmeldung='true']
DTSTAMP:20260424T144400
DTSTART:20190930T160000
DTEND:20190930T180000
SEQUENCE:0
TRANSP:OPAQUE
END:VEVENT
END:VCALENDAR