BEGIN:VCALENDAR
VERSION:2.0
PRODID:-//jEvents 2.0 for Joomla//EN
CALSCALE:GREGORIAN
METHOD:PUBLISH
BEGIN:VEVENT
UID:5f97cb8b11b506bc961f7dd3dbaa43fc
CATEGORIES:5. Bezirk
CREATED:20190717T094947
SUMMARY:Mama-Baby-Yoga
LOCATION:Grünwaldgasse 4
DESCRIPTION:Mama-Baby-Yoga\nDas Jugendzentrum Margareten öffnet seine Türen für Mamas m
 it Babys von 0-1 Jahren, um Yoga zu praktizieren und im gemütlichen Rahmen,
  bei Tee oder Kaffee noch ein bisschen zu verweilen, zu plaudern, sich ausz
 utauschen, etc.Yogamatten sind vorhanden, wer selbst eine hat, bringt sie b
 itte mit.\nWir freuen uns auf eine gemütliche Veranstaltung in unseren neu 
 renovierten Räumlichkeiten!\n
X-ALT-DESC;FMTTYPE=text/html:<p style="text-align: center;"><strong>Mama-Baby-Yoga</strong></p><p style=
 "text-align: left;">Das Jugendzentrum Margareten öffnet seine Türen für Mam
 as mit Babys von 0-1 Jahren, um Yoga zu praktizieren und im gemütlichen Rah
 men, bei Tee oder Kaffee noch ein bisschen zu verweilen, zu plaudern, sich 
 auszutauschen, etc.Yogamatten sind vorhanden, wer selbst eine hat, bringt s
 ie bitte mit.</p><p style="text-align: center;">Wir freuen uns auf eine gem
 ütliche Veranstaltung in unseren neu renovierten Räumlichkeiten!</p>
CONTACT:o.horak@jugendzentren.at
DTSTAMP:20260425T134512
DTSTART:20190904T080000
DTEND:20190904T090000
SEQUENCE:0
TRANSP:OPAQUE
END:VEVENT
END:VCALENDAR