BEGIN:VCALENDAR
VERSION:2.0
PRODID:-//jEvents 2.0 for Joomla//EN
CALSCALE:GREGORIAN
METHOD:PUBLISH
BEGIN:VEVENT
UID:0b0875f36003cc85bbcf940d2cf15b20
CATEGORIES:8. Bezirk
CREATED:20190719T211925
SUMMARY:Mawiba Sommerspecial „Cant stop this feeling“
LOCATION:MAMA &amp; PAPA Pur\, Josefstädter Straße 81-83\, 2. Innenhof\, 1080 Wien; 
 www.mupp.at
DESCRIPTION:Liebe Babymamas, liebe Babypapas, liebe Babys!\n\nMAWIBA ist ein Tanzkonzep
 t für Mamas und ihre Babys, ein sanfter Einstieg um nach der Geburt wieder 
 aktiv zu werden. Während die Mamas zu beckenbodenstärkenden Choreografien t
 anzen und dabei ihre Haltung und Fitness verbessern, kuscheln sich die Baby
 s in einer Tragehilfe an sie. Gemeinsam mit einem erfahrenen Expertenteam e
 ntwickelt, bietet MAWIBA spezielle Choreografien zur Beckenbodenstärkung un
 d Verbesserung der Körperhaltung.\nKeine Vorkenntnisse notwendig - just mee
 t, dance &amp; relax.\n\nLIMITIERTE TEILNEHMERANZAHL!\n\nWO? MAMA &amp; PAP
 A PUR, Josefstädter Straße 81-82, 2. Innenhof, 1080 Wien\nIm neuen Souterra
 in-Studio ist es angenehm kühl!\n\nWANN? \nDienstag 20. August 2019\nUm 13:
 00 Uhr tanzen wir los.\nAb 12:45 Uhr ist das Studio besetzt. Wir tanzen ein
 e Stunde und anschließend haben wir 30 min um zu plaudern.\n\nALTER DER BAB
 YS - nach dem Wochenbett darf die Mama mit Ihrem Baby starten, solange wie 
 sie es tragen möchte!\n\nKURSKOSTEN: \n€ 14,00\nSchnupperstunde (Deine erst
 e Mawiba Stunde) € 10,00\n\nANMELDUNG unter \nhttps://www.mawiba.net/regist
 er/?class=1080%20Wien%20-%20Schnupperstunde%2020%20August&amp;trainer=mwald
 bauer\n\n\nIch freue auf Euch!\nBis dann,\nEure\nMela\n
X-ALT-DESC;FMTTYPE=text/html:<p><strong>Liebe Babymamas, liebe Babypapas, liebe Babys!</strong><br /><br
  />MAWIBA ist ein Tanzkonzept für Mamas und ihre Babys, ein sanfter Einstie
 g um nach der Geburt wieder aktiv zu werden. Während die Mamas zu beckenbod
 enstärkenden Choreografien tanzen und dabei ihre Haltung und Fitness verbes
 sern, kuscheln sich die Babys in einer Tragehilfe an sie. Gemeinsam mit ein
 em erfahrenen Expertenteam entwickelt, bietet MAWIBA spezielle Choreografie
 n zur Beckenbodenstärkung und Verbesserung der Körperhaltung.<br />Keine Vo
 rkenntnisse notwendig - just meet, dance &amp; relax.<br /><br /><strong>LI
 MITIERTE TEILNEHMERANZAHL!</strong><br /><br /><strong>WO?</strong> MAMA &a
 mp; PAPA PUR, Josefstädter Straße 81-82, 2. Innenhof, 1080 Wien<br />Im neu
 en Souterrain-Studio ist es angenehm kühl!<br /><br /><strong>WANN?</strong
 > <br />Dienstag 20. August 2019<br />Um 13:00 Uhr tanzen wir los.<br />Ab 
 12:45 Uhr ist das Studio besetzt. Wir tanzen eine Stunde und anschließend h
 aben wir 30 min um zu plaudern.<br /><br /><strong>ALTER DER BABYS</strong>
  - nach dem Wochenbett darf die Mama mit Ihrem Baby starten, solange wie si
 e es tragen möchte!<br /><br /><strong>KURSKOSTEN:</strong> <br />€ 14,00<b
 r />Schnupperstunde (Deine erste Mawiba Stunde) € 10,00<br /><br /><strong>
 ANMELDUNG</strong> unter <br />https://www.mawiba.net/register/?class=1080%
 20Wien%20-%20Schnupperstunde%2020%20August&amp;trainer=mwaldbauer<br /><br 
 /><br />Ich freue auf Euch!<br />Bis dann,<br />Eure<br /><strong>Mela</str
 ong></p>
CONTACT:Melanie Waldbauer, info@mupp.at, 0690 10018258
DTSTAMP:20260424T152350
DTSTART:20190820T110000
DTEND:20190820T123000
SEQUENCE:0
TRANSP:OPAQUE
END:VEVENT
END:VCALENDAR