BEGIN:VCALENDAR
VERSION:2.0
PRODID:-//jEvents 2.0 for Joomla//EN
CALSCALE:GREGORIAN
METHOD:PUBLISH
BEGIN:VEVENT
UID:3e29d87bcb651588a3eb3e8757d94012
CATEGORIES:3. Bezirk
CREATED:20190720T211420
SUMMARY:DERKREATIVRAUM3- Musikgarten für Kinder von 2-3 Jahren
LOCATION:derkreativraum3
DESCRIPTION:<p>"Musikgarten -Gemeinsam musizieren" ist ein musikpädagisches Konzept, da
 s Kind ab dem Säuglingsalter und deren Eltern zum gemeinsamen Musizieren an
 regt. Durch musikalische Kinderspiele, Tänze und das gemeinsame Singen erfa
 hren die Kinder eine frühe musikalische Förderung. Einfache Instrumente wie
  Klanghölzer, Glöckchen, Rasseln oder Trommeln lassen sie selbst aktiv werd
 en.</p>
CONTACT:www.derkreativraum.at
X-EXTRAINFO:[preis='7500'][anmeldung='true']
DTSTAMP:20260424T143634
DTSTART:20190725T140500
DTEND:20190725T155500
SEQUENCE:0
TRANSP:OPAQUE
END:VEVENT
END:VCALENDAR