BEGIN:VCALENDAR
VERSION:2.0
PRODID:-//jEvents 2.0 for Joomla//EN
CALSCALE:GREGORIAN
METHOD:PUBLISH
BEGIN:VEVENT
UID:be220dbbd383b848e03ba2737154380f
CATEGORIES:3. Bezirk
CREATED:19700101T010000
SUMMARY:DERKREATIVRAUM3 -Musikgarten für Kinder von 1-2 Jahren
LOCATION:derkreativraum3
DESCRIPTION:"Musikgarten -Gemeinsam musizieren" ist ein musikpädagisches Konzept, das K
 ind ab dem Säuglingsalter und deren Eltern zum gemeinsamen Musizieren anreg
 t. Durch musikalische Kinderspiele, Tänze und das gemeinsame Singen erfahre
 n die Kinder eine frühe musikalische Förderung. Einfache Instrumente wie Kl
 anghölzer, Glöckchen, Rasseln oder Trommeln lassen sie selbst aktiv werden.
 \n
X-ALT-DESC;FMTTYPE=text/html:<p>"Musikgarten -Gemeinsam musizieren" ist ein musikpädagisches Konzept, da
 s Kind ab dem Säuglingsalter und deren Eltern zum gemeinsamen Musizieren an
 regt. Durch musikalische Kinderspiele, Tänze und das gemeinsame Singen erfa
 hren die Kinder eine frühe musikalische Förderung. Einfache Instrumente wie
  Klanghölzer, Glöckchen, Rasseln oder Trommeln lassen sie selbst aktiv werd
 en.</p>
CONTACT:www.derkreativraum.at
X-EXTRAINFO:[preis='17600'][anmeldung='true']
DTSTAMP:20260424T143317
DTSTART:20190725T073000
DTEND:20190725T082000
SEQUENCE:0
RRULE:FREQ=WEEKLY;UNTIL=20200118T000000Z;INTERVAL=0;BYDAY=TH,FR,TH,FR,TH,FR,TH,FR,TH,FR
EXDATE:20190725T073000
TRANSP:OPAQUE
END:VEVENT
END:VCALENDAR