BEGIN:VCALENDAR
VERSION:2.0
PRODID:-//jEvents 2.0 for Joomla//EN
CALSCALE:GREGORIAN
METHOD:PUBLISH
BEGIN:VEVENT
UID:a1217884c835fcd7f935b750f6af4238
CATEGORIES:14. Bezirk
CREATED:20190720T215545
SUMMARY:DERKREATIVRAUM14- Rückbildung&Yoga für Mütter mit Baby
LOCATION:derkreativraum14
DESCRIPTION:für Mütter mit Babys zwischen 6 Wochen und 1 Jahr\nHier finden die Mütter n
 eben der Möglichkeit den Körper wieder zu Kraft und Festigkeit zu bringen (
 Beckenboden, Nacken, Schultern ...) und die eigene innere Stille zu genieße
 n oder zu entdecken, auch den Austausch mit anderen Müttern.\n 
X-ALT-DESC;FMTTYPE=text/html:<div class="ydpfedaa875MsoNormal"><p><strong>für Mütter mit Babys zwischen 
 6 Wochen und 1 Jahr</strong></p><p>Hier finden die Mütter neben der Möglich
 keit den Körper wieder zu Kraft und Festigkeit zu bringen (Beckenboden, Nac
 ken, Schultern ...) und die eigene innere Stille zu genießen oder zu entdec
 ken, auch den Austausch mit anderen Müttern.</p></div><div class="ydpfedaa8
 75MsoNormal"> </div>
CONTACT:www.derkreativraum.at
X-EXTRAINFO:[preis='15300'][anmeldung='true']
DTSTAMP:20260423T182447
DTSTART:20190912T094500
DTEND:20190912T110000
SEQUENCE:0
TRANSP:OPAQUE
END:VEVENT
END:VCALENDAR