BEGIN:VCALENDAR
VERSION:2.0
PRODID:-//jEvents 2.0 for Joomla//EN
CALSCALE:GREGORIAN
METHOD:PUBLISH
BEGIN:VEVENT
UID:d433a420dcc830924a5e55e2b44bf977
CATEGORIES:14. Bezirk
CREATED:20190720T220807
SUMMARY:DERKREATIVRAUM14- Kreativer Kindertanz für Kinder ab ca. 4 Jahren
LOCATION:derkreativraum14
DESCRIPTION:<p>Singen - Lachen - Tanzen</p><p>Jedes Kind besitzt eine natürliche Bewegu
 ngsfreude. Mit dieser Freude wollen wir zusammen auf Entdeckungsreise in di
 e Welt des Tanzes gehen.</p><p>Wir lernen unserer Fantasie in Tanz und Impr
 ovisationsspielen freien Lauf zu lassen und schulen dabei ganz nebenbei Mot
 orik, Körperkontrolle, Beweglichkeit, Musikalität, Kreativität und Kraft. G
 emeinsam wagen wir uns an die ersten tänzerischen Grundbewegungsformen und 
 haben somit eine optimale Grundlage für jede Tanz- und Bewegungstechnik.</p
 >
CONTACT:http://www.derkreativraum.at (http://www.derkreativraum.at)
X-EXTRAINFO:[preis='17600'][anmeldung='true']
DTSTAMP:20260423T182651
DTSTART:20190911T143000
DTEND:20190911T152000
SEQUENCE:0
TRANSP:OPAQUE
END:VEVENT
END:VCALENDAR