BEGIN:VCALENDAR
VERSION:2.0
PRODID:-//jEvents 2.0 for Joomla//EN
CALSCALE:GREGORIAN
METHOD:PUBLISH
BEGIN:VEVENT
UID:90214853fe584c491c02c5d9d87362e7
CATEGORIES:14. Bezirk
CREATED:20190720T221217
SUMMARY:DERKREATIVRAUM14- Dance&Fun für Kinder ab ca. 6 Jahren
LOCATION:derkreativraum14
DESCRIPTION:Emotionen - Spass - Tanz\nDieser Kurs ist für alle richtig, die bei Musik e
 infach nicht stillsitzen können. Ob Pop, Musical, klassisch- die Welt der M
 usik ist bunt und so gestalten wir auch den Unterricht. Ein kleines Warm Up
  mit Dehn- und Kräftigungsübungen, verschiedene Übungen, Drehungen und Sprü
 nge von der Ecke und vor Allem ganz viel Fantasie und Spaß! Wir lernen vers
 chiedene Musikstile kennen und schulen dabei Körperkontrolle, Beweglichkeit
 , Selbstvertrauen, Ausdruck, Wandlungsfähigkeit und Kraft. Also taucht mit 
 mir ein in die wunderbare Welt der Musik und des Tanzes.\n \n
X-ALT-DESC;FMTTYPE=text/html:<p>Emotionen - Spass - Tanz</p><p>Dieser Kurs ist für alle richtig, die bei
  Musik einfach nicht stillsitzen können. Ob Pop, Musical, klassisch- die We
 lt der Musik ist bunt und so gestalten wir auch den Unterricht. Ein kleines
  Warm Up mit Dehn- und Kräftigungsübungen, verschiedene Übungen, Drehungen 
 und Sprünge von der Ecke und vor Allem ganz viel Fantasie und Spaß! Wir ler
 nen verschiedene Musikstile kennen und schulen dabei Körperkontrolle, Beweg
 lichkeit, Selbstvertrauen, Ausdruck, Wandlungsfähigkeit und Kraft. Also tau
 cht mit mir ein in die wunderbare Welt der Musik und des Tanzes.</p><p> </p
 >
CONTACT:http://www.derkreativraum.at (http://www.derkreativraum.at)
X-EXTRAINFO:[preis='17600'][anmeldung='true']
DTSTAMP:20260423T182354
DTSTART:20190911T153000
DTEND:20190911T162000
SEQUENCE:0
TRANSP:OPAQUE
END:VEVENT
END:VCALENDAR