BEGIN:VCALENDAR
VERSION:2.0
PRODID:-//jEvents 2.0 for Joomla//EN
CALSCALE:GREGORIAN
METHOD:PUBLISH
BEGIN:VEVENT
UID:354a1a252e1236407fe04004d07d30cb
CATEGORIES:3. Bezirk
CREATED:20190720T222055
SUMMARY:DERKREATIVRAUM3- Singmäuse für Babys
LOCATION:derkreativraum3
DESCRIPTION:<p>In diesem Kurs singen wir gemeinsam traditionelle und von der Kursleiter
 in selbstgeschriebene Lieder. Am Ende des Kurses haben Sie ein Liederrepert
 oir, das Sie im Alltag ebenso freudvoll wie hilfreich einsetzen können.</p>
 <p>Die Lieder laden zu Handbewegungen bis Ganzkörperbewegungen ein. Das gem
 einsame Singen und die ebenso damit verbundene Freude an der Bewegung stehe
 n im Vordergrund.</p><p>Singspiele mit dem Schwungtuch werden auch immer wi
 eder eingebaut.</p>
CONTACT:http://www.derkreativraum.at
X-EXTRAINFO:[preis='17600'][anmeldung='true']
DTSTAMP:20260424T150839
DTSTART:20190905T113000
DTEND:20190905T122000
SEQUENCE:0
TRANSP:OPAQUE
END:VEVENT
END:VCALENDAR